Workbook

Sheet Summary
A1: CASA TOSALET · FF&E quantity forecast by phase
A2: Order of magnitude on a non-final project. One phase per licence/building (order from 04/08/26 summary). Max = total + margin for tiered pricing. Change phases in Assumptions (col. E).
A4: Indicator | B4: Phase 1 · Casa Club | C4: Phase 2 · Spa / Wellness | D4: Phase 3 · Lodges A | E4: Phase 4 · Lodges B | F4: Total | G4: Max to negotiate
A5: Keys (rooms / lodges) | B5: =Assumptions!B23 -> 14 | C5: =Assumptions!C23 -> 18 | D5: =Assumptions!D23 -> 12 | E5: =Assumptions!E23 -> 12 | F5: =SUM(B5:E5) -> 56 | G5: —
A6: Bedrooms | B6: =Assumptions!B24 -> 15 | C6: =Assumptions!C24 -> 20 | D6: =Assumptions!D24 -> 13 | E6: =Assumptions!E24 -> 13 | F6: =SUM(B6:E6) -> 61 | G6: —
A7: Lounges (doubles with lounge + suites) | B7: =Assumptions!B25 -> 4 | C7: =Assumptions!C25 -> 6 | D7: =Assumptions!D25 -> 3 | E7: =Assumptions!E25 -> 3 | F7: =SUM(B7:E7) -> 16 | G7: —
A8: Accessible rooms (CTE DB-SUA) | B8: =Assumptions!B30 -> 1 | C8: =Assumptions!C30 -> 1 | D8: =Assumptions!D30 -> 1 | E8: =Assumptions!E30 -> 1 | F8: =SUM(B8:E8) -> 4 | G8: —
A9: F&B covers (indoor + terrace) | B9: =SUMPRODUCT(('F&B'!$D$5:$D$11+'F&B'!$E$5:$E$11)*('F&B'!$C$5:$C$11=1)) -> 190 | C9: =SUMPRODUCT(('F&B'!$D$5:$D$11+'F&B'!$E$5:$E$11)*('F&B'!$C$5:$C$11=2)) -> 70 | D9: =SUMPRODUCT(('F&B'!$D$5:$D$11+'F&B'!$E$5:$E$11)*('F&B'!$C$5:$C$11=3)) -> 40 | E9: =SUMPRODUCT(('F&B'!$D$5:$D$11+'F&B'!$E$5:$E$11)*('F&B'!$C$5:$C$11=4)) -> 60 | F9: =SUM(B9:E9) -> 360 | G9: —
A11: Group | B11: Phase 1 · Casa Club | C11: Phase 2 · Spa / Wellness | D11: Phase 3 · Lodges A | E11: Phase 4 · Lodges B | F11: Total | G11: Max to negotiate
A12: Beds (90×200 bases) | B12: =SUMIF(Rooms!$C:$C,$A12,Rooms!$D:$D)+SUMIF('F&B'!$C:$C,$A12,'F&B'!$D:$D)+SUMIF('Pools & Spa'!$C:$C,$A12,'Pools & Spa'!$D:$D)+SUMIF('Common Areas'!$C:$C,$A12,'Common Areas'!$D:$D) -> 30 | C12: =SUMIF(Rooms!$C:$C,$A12,Rooms!$E:$E)+SUMIF('F&B'!$C:$C,$A12,'F&B'!$E:$E)+SUMIF('Pools & Spa'!$C:$C,$A12,'Pools & Spa'!$E:$E)+SUMIF('Common Areas'!$C:$C,$A12,'Common Areas'!$E:$E) -> 40 | D12: =SUMIF(Rooms!$C:$C,$A12,Rooms!$F:$F)+SUMIF('F&B'!$C:$C,$A12,'F&B'!$F:$F)+SUMIF('Pools & Spa'!$C:$C,$A12,'Pools & Spa'!$F:$F)+SUMIF('Common Areas'!$C:$C,$A12,'Common Areas'!$F:$F) -> 26 | E12: =SUMIF(Rooms!$C:$C,$A12,Rooms!$G:$G)+SUMIF('F&B'!$C:$C,$A12,'F&B'!$G:$G)+SUMIF('Pools & Spa'!$C:$C,$A12,'Pools & Spa'!$G:$G)+SUMIF('Common Areas'!$C:$C,$A12,'Common Areas'!$G:$G) -> 26 | F12: =SUM(B12:E12) -> 122 | G12: =SUMIF(Rooms!$C:$C,$A12,Rooms!$I:$I)+SUMIF('F&B'!$C:$C,$A12,'F&B'!$I:$I)+SUMIF('Pools & Spa'!$C:$C,$A12,'Pools & Spa'!$I:$I)+SUMIF('Common Areas'!$C:$C,$A12,'Common Areas'!$I:$I) -> 135
A13: Mattresses | B13: =SUMIF(Rooms!$C:$C,$A13,Rooms!$D:$D)+SUMIF('F&B'!$C:$C,$A13,'F&B'!$D:$D)+SUMIF('Pools & Spa'!$C:$C,$A13,'Pools & Spa'!$D:$D)+SUMIF('Common Areas'!$C:$C,$A13,'Common Areas'!$D:$D) -> 30 | C13: =SUMIF(Rooms!$C:$C,$A13,Rooms!$E:$E)+SUMIF('F&B'!$C:$C,$A13,'F&B'!$E:$E)+SUMIF('Pools & Spa'!$C:$C,$A13,'Pools & Spa'!$E:$E)+SUMIF('Common Areas'!$C:$C,$A13,'Common Areas'!$E:$E) -> 40 | D13: =SUMIF(Rooms!$C:$C,$A13,Rooms!$F:$F)+SUMIF('F&B'!$C:$C,$A13,'F&B'!$F:$F)+SUMIF('Pools & Spa'!$C:$C,$A13,'Pools & Spa'!$F:$F)+SUMIF('Common Areas'!$C:$C,$A13,'Common Areas'!$F:$F) -> 26 | E13: =SUMIF(Rooms!$C:$C,$A13,Rooms!$G:$G)+SUMIF('F&B'!$C:$C,$A13,'F&B'!$G:$G)+SUMIF('Pools & Spa'!$C:$C,$A13,'Pools & Spa'!$G:$G)+SUMIF('Common Areas'!$C:$C,$A13,'Common Areas'!$G:$G) -> 26 | F13: =SUM(B13:E13) -> 122 | G13: =SUMIF(Rooms!$C:$C,$A13,Rooms!$I:$I)+SUMIF('F&B'!$C:$C,$A13,'F&B'!$I:$I)+SUMIF('Pools & Spa'!$C:$C,$A13,'Pools & Spa'!$I:$I)+SUMIF('Common Areas'!$C:$C,$A13,'Common Areas'!$I:$I) -> 135
A14: Accessible-room kits | B14: =SUMIF(Rooms!$C:$C,$A14,Rooms!$D:$D)+SUMIF('F&B'!$C:$C,$A14,'F&B'!$D:$D)+SUMIF('Pools & Spa'!$C:$C,$A14,'Pools & Spa'!$D:$D)+SUMIF('Common Areas'!$C:$C,$A14,'Common Areas'!$D:$D) -> 1 | C14: =SUMIF(Rooms!$C:$C,$A14,Rooms!$E:$E)+SUMIF('F&B'!$C:$C,$A14,'F&B'!$E:$E)+SUMIF('Pools & Spa'!$C:$C,$A14,'Pools & Spa'!$E:$E)+SUMIF('Common Areas'!$C:$C,$A14,'Common Areas'!$E:$E) -> 1 | D14: =SUMIF(Rooms!$C:$C,$A14,Rooms!$F:$F)+SUMIF('F&B'!$C:$C,$A14,'F&B'!$F:$F)+SUMIF('Pools & Spa'!$C:$C,$A14,'Pools & Spa'!$F:$F)+SUMIF('Common Areas'!$C:$C,$A14,'Common Areas'!$F:$F) -> 1 | E14: =SUMIF(Rooms!$C:$C,$A14,Rooms!$G:$G)+SUMIF('F&B'!$C:$C,$A14,'F&B'!$G:$G)+SUMIF('Pools & Spa'!$C:$C,$A14,'Pools & Spa'!$G:$G)+SUMIF('Common Areas'!$C:$C,$A14,'Common Areas'!$G:$G) -> 1 | F14: =SUM(B14:E14) -> 4 | G14: =SUMIF(Rooms!$C:$C,$A14,Rooms!$I:$I)+SUMIF('F&B'!$C:$C,$A14,'F&B'!$I:$I)+SUMIF('Pools & Spa'!$C:$C,$A14,'Pools & Spa'!$I:$I)+SUMIF('Common Areas'!$C:$C,$A14,'Common Areas'!$I:$I) -> 5
A15: Headboards | B15: =SUMIF(Rooms!$C:$C,$A15,Rooms!$D:$D)+SUMIF('F&B'!$C:$C,$A15,'F&B'!$D:$D)+SUMIF('Pools & Spa'!$C:$C,$A15,'Pools & Spa'!$D:$D)+SUMIF('Common Areas'!$C:$C,$A15,'Common Areas'!$D:$D) -> 15 | C15: =SUMIF(Rooms!$C:$C,$A15,Rooms!$E:$E)+SUMIF('F&B'!$C:$C,$A15,'F&B'!$E:$E)+SUMIF('Pools & Spa'!$C:$C,$A15,'Pools & Spa'!$E:$E)+SUMIF('Common Areas'!$C:$C,$A15,'Common Areas'!$E:$E) -> 20 | D15: =SUMIF(Rooms!$C:$C,$A15,Rooms!$F:$F)+SUMIF('F&B'!$C:$C,$A15,'F&B'!$F:$F)+SUMIF('Pools & Spa'!$C:$C,$A15,'Pools & Spa'!$F:$F)+SUMIF('Common Areas'!$C:$C,$A15,'Common Areas'!$F:$F) -> 13 | E15: =SUMIF(Rooms!$C:$C,$A15,Rooms!$G:$G)+SUMIF('F&B'!$C:$C,$A15,'F&B'!$G:$G)+SUMIF('Pools & Spa'!$C:$C,$A15,'Pools & Spa'!$G:$G)+SUMIF('Common Areas'!$C:$C,$A15,'Common Areas'!$G:$G) -> 13 | F15: =SUM(B15:E15) -> 61 | G15: =SUMIF(Rooms!$C:$C,$A15,Rooms!$I:$I)+SUMIF('F&B'!$C:$C,$A15,'F&B'!$I:$I)+SUMIF('Pools & Spa'!$C:$C,$A15,'Pools & Spa'!$I:$I)+SUMIF('Common Areas'!$C:$C,$A15,'Common Areas'!$I:$I) -> 68
A16: Bedside tables | B16: =SUMIF(Rooms!$C:$C,$A16,Rooms!$D:$D)+SUMIF('F&B'!$C:$C,$A16,'F&B'!$D:$D)+SUMIF('Pools & Spa'!$C:$C,$A16,'Pools & Spa'!$D:$D)+SUMIF('Common Areas'!$C:$C,$A16,'Common Areas'!$D:$D) -> 30 | C16: =SUMIF(Rooms!$C:$C,$A16,Rooms!$E:$E)+SUMIF('F&B'!$C:$C,$A16,'F&B'!$E:$E)+SUMIF('Pools & Spa'!$C:$C,$A16,'Pools & Spa'!$E:$E)+SUMIF('Common Areas'!$C:$C,$A16,'Common Areas'!$E:$E) -> 40 | D16: =SUMIF(Rooms!$C:$C,$A16,Rooms!$F:$F)+SUMIF('F&B'!$C:$C,$A16,'F&B'!$F:$F)+SUMIF('Pools & Spa'!$C:$C,$A16,'Pools & Spa'!$F:$F)+SUMIF('Common Areas'!$C:$C,$A16,'Common Areas'!$F:$F) -> 26 | E16: =SUMIF(Rooms!$C:$C,$A16,Rooms!$G:$G)+SUMIF('F&B'!$C:$C,$A16,'F&B'!$G:$G)+SUMIF('Pools & Spa'!$C:$C,$A16,'Pools & Spa'!$G:$G)+SUMIF('Common Areas'!$C:$C,$A16,'Common Areas'!$G:$G) -> 26 | F16: =SUM(B16:E16) -> 122 | G16: =SUMIF(Rooms!$C:$C,$A16,Rooms!$I:$I)+SUMIF('F&B'!$C:$C,$A16,'F&B'!$I:$I)+SUMIF('Pools & Spa'!$C:$C,$A16,'Pools & Spa'!$I:$I)+SUMIF('Common Areas'!$C:$C,$A16,'Common Areas'!$I:$I) -> 135
A17: Desks | B17: =SUMIF(Rooms!$C:$C,$A17,Rooms!$D:$D)+SUMIF('F&B'!$C:$C,$A17,'F&B'!$D:$D)+SUMIF('Pools & Spa'!$C:$C,$A17,'Pools & Spa'!$D:$D)+SUMIF('Common Areas'!$C:$C,$A17,'Common Areas'!$D:$D) -> 14 | C17: =SUMIF(Rooms!$C:$C,$A17,Rooms!$E:$E)+SUMIF('F&B'!$C:$C,$A17,'F&B'!$E:$E)+SUMIF('Pools & Spa'!$C:$C,$A17,'Pools & Spa'!$E:$E)+SUMIF('Common Areas'!$C:$C,$A17,'Common Areas'!$E:$E) -> 18 | D17: =SUMIF(Rooms!$C:$C,$A17,Rooms!$F:$F)+SUMIF('F&B'!$C:$C,$A17,'F&B'!$F:$F)+SUMIF('Pools & Spa'!$C:$C,$A17,'Pools & Spa'!$F:$F)+SUMIF('Common Areas'!$C:$C,$A17,'Common Areas'!$F:$F) -> 12 | E17: =SUMIF(Rooms!$C:$C,$A17,Rooms!$G:$G)+SUMIF('F&B'!$C:$C,$A17,'F&B'!$G:$G)+SUMIF('Pools & Spa'!$C:$C,$A17,'Pools & Spa'!$G:$G)+SUMIF('Common Areas'!$C:$C,$A17,'Common Areas'!$G:$G) -> 12 | F17: =SUM(B17:E17) -> 56 | G17: =SUMIF(Rooms!$C:$C,$A17,Rooms!$I:$I)+SUMIF('F&B'!$C:$C,$A17,'F&B'!$I:$I)+SUMIF('Pools & Spa'!$C:$C,$A17,'Pools & Spa'!$I:$I)+SUMIF('Common Areas'!$C:$C,$A17,'Common Areas'!$I:$I) -> 62
A18: Desk & operator chairs | B18: =SUMIF(Rooms!$C:$C,$A18,Rooms!$D:$D)+SUMIF('F&B'!$C:$C,$A18,'F&B'!$D:$D)+SUMIF('Pools & Spa'!$C:$C,$A18,'Pools & Spa'!$D:$D)+SUMIF('Common Areas'!$C:$C,$A18,'Common Areas'!$D:$D) -> 16 | C18: =SUMIF(Rooms!$C:$C,$A18,Rooms!$E:$E)+SUMIF('F&B'!$C:$C,$A18,'F&B'!$E:$E)+SUMIF('Pools & Spa'!$C:$C,$A18,'Pools & Spa'!$E:$E)+SUMIF('Common Areas'!$C:$C,$A18,'Common Areas'!$E:$E) -> 20 | D18: =SUMIF(Rooms!$C:$C,$A18,Rooms!$F:$F)+SUMIF('F&B'!$C:$C,$A18,'F&B'!$F:$F)+SUMIF('Pools & Spa'!$C:$C,$A18,'Pools & Spa'!$F:$F)+SUMIF('Common Areas'!$C:$C,$A18,'Common Areas'!$F:$F) -> 14 | E18: =SUMIF(Rooms!$C:$C,$A18,Rooms!$G:$G)+SUMIF('F&B'!$C:$C,$A18,'F&B'!$G:$G)+SUMIF('Pools & Spa'!$C:$C,$A18,'Pools & Spa'!$G:$G)+SUMIF('Common Areas'!$C:$C,$A18,'Common Areas'!$G:$G) -> 14 | F18: =SUM(B18:E18) -> 64 | G18: =SUMIF(Rooms!$C:$C,$A18,Rooms!$I:$I)+SUMIF('F&B'!$C:$C,$A18,'F&B'!$I:$I)+SUMIF('Pools & Spa'!$C:$C,$A18,'Pools & Spa'!$I:$I)+SUMIF('Common Areas'!$C:$C,$A18,'Common Areas'!$I:$I) -> 71
A19: Wardrobes | B19: =SUMIF(Rooms!$C:$C,$A19,Rooms!$D:$D)+SUMIF('F&B'!$C:$C,$A19,'F&B'!$D:$D)+SUMIF('Pools & Spa'!$C:$C,$A19,'Pools & Spa'!$D:$D)+SUMIF('Common Areas'!$C:$C,$A19,'Common Areas'!$D:$D) -> 15 | C19: =SUMIF(Rooms!$C:$C,$A19,Rooms!$E:$E)+SUMIF('F&B'!$C:$C,$A19,'F&B'!$E:$E)+SUMIF('Pools & Spa'!$C:$C,$A19,'Pools & Spa'!$E:$E)+SUMIF('Common Areas'!$C:$C,$A19,'Common Areas'!$E:$E) -> 20 | D19: =SUMIF(Rooms!$C:$C,$A19,Rooms!$F:$F)+SUMIF('F&B'!$C:$C,$A19,'F&B'!$F:$F)+SUMIF('Pools & Spa'!$C:$C,$A19,'Pools & Spa'!$F:$F)+SUMIF('Common Areas'!$C:$C,$A19,'Common Areas'!$F:$F) -> 13 | E19: =SUMIF(Rooms!$C:$C,$A19,Rooms!$G:$G)+SUMIF('F&B'!$C:$C,$A19,'F&B'!$G:$G)+SUMIF('Pools & Spa'!$C:$C,$A19,'Pools & Spa'!$G:$G)+SUMIF('Common Areas'!$C:$C,$A19,'Common Areas'!$G:$G) -> 13 | F19: =SUM(B19:E19) -> 61 | G19: =SUMIF(Rooms!$C:$C,$A19,Rooms!$I:$I)+SUMIF('F&B'!$C:$C,$A19,'F&B'!$I:$I)+SUMIF('Pools & Spa'!$C:$C,$A19,'Pools & Spa'!$I:$I)+SUMIF('Common Areas'!$C:$C,$A19,'Common Areas'!$I:$I) -> 68
A20: Room lamps | B20: =SUMIF(Rooms!$C:$C,$A20,Rooms!$D:$D)+SUMIF('F&B'!$C:$C,$A20,'F&B'!$D:$D)+SUMIF('Pools & Spa'!$C:$C,$A20,'Pools & Spa'!$D:$D)+SUMIF('Common Areas'!$C:$C,$A20,'Common Areas'!$D:$D) -> 76 | C20: =SUMIF(Rooms!$C:$C,$A20,Rooms!$E:$E)+SUMIF('F&B'!$C:$C,$A20,'F&B'!$E:$E)+SUMIF('Pools & Spa'!$C:$C,$A20,'Pools & Spa'!$E:$E)+SUMIF('Common Areas'!$C:$C,$A20,'Common Areas'!$E:$E) -> 100 | D20: =SUMIF(Rooms!$C:$C,$A20,Rooms!$F:$F)+SUMIF('F&B'!$C:$C,$A20,'F&B'!$F:$F)+SUMIF('Pools & Spa'!$C:$C,$A20,'Pools & Spa'!$F:$F)+SUMIF('Common Areas'!$C:$C,$A20,'Common Areas'!$F:$F) -> 65 | E20: =SUMIF(Rooms!$C:$C,$A20,Rooms!$G:$G)+SUMIF('F&B'!$C:$C,$A20,'F&B'!$G:$G)+SUMIF('Pools & Spa'!$C:$C,$A20,'Pools & Spa'!$G:$G)+SUMIF('Common Areas'!$C:$C,$A20,'Common Areas'!$G:$G) -> 65 | F20: =SUM(B20:E20) -> 306 | G20: =SUMIF(Rooms!$C:$C,$A20,Rooms!$I:$I)+SUMIF('F&B'!$C:$C,$A20,'F&B'!$I:$I)+SUMIF('Pools & Spa'!$C:$C,$A20,'Pools & Spa'!$I:$I)+SUMIF('Common Areas'!$C:$C,$A20,'Common Areas'!$I:$I) -> 339
A21: F&B lamps | B21: =SUMIF(Rooms!$C:$C,$A21,Rooms!$D:$D)+SUMIF('F&B'!$C:$C,$A21,'F&B'!$D:$D)+SUMIF('Pools & Spa'!$C:$C,$A21,'Pools & Spa'!$D:$D)+SUMIF('Common Areas'!$C:$C,$A21,'Common Areas'!$D:$D) -> 100 | C21: =SUMIF(Rooms!$C:$C,$A21,Rooms!$E:$E)+SUMIF('F&B'!$C:$C,$A21,'F&B'!$E:$E)+SUMIF('Pools & Spa'!$C:$C,$A21,'Pools & Spa'!$E:$E)+SUMIF('Common Areas'!$C:$C,$A21,'Common Areas'!$E:$E) -> 39 | D21: =SUMIF(Rooms!$C:$C,$A21,Rooms!$F:$F)+SUMIF('F&B'!$C:$C,$A21,'F&B'!$F:$F)+SUMIF('Pools & Spa'!$C:$C,$A21,'Pools & Spa'!$F:$F)+SUMIF('Common Areas'!$C:$C,$A21,'Common Areas'!$F:$F) -> 21 | E21: =SUMIF(Rooms!$C:$C,$A21,Rooms!$G:$G)+SUMIF('F&B'!$C:$C,$A21,'F&B'!$G:$G)+SUMIF('Pools & Spa'!$C:$C,$A21,'Pools & Spa'!$G:$G)+SUMIF('Common Areas'!$C:$C,$A21,'Common Areas'!$G:$G) -> 32 | F21: =SUM(B21:E21) -> 192 | G21: =SUMIF(Rooms!$C:$C,$A21,Rooms!$I:$I)+SUMIF('F&B'!$C:$C,$A21,'F&B'!$I:$I)+SUMIF('Pools & Spa'!$C:$C,$A21,'Pools & Spa'!$I:$I)+SUMIF('Common Areas'!$C:$C,$A21,'Common Areas'!$I:$I) -> 213
A22: Common-area lamps | B22: =SUMIF(Rooms!$C:$C,$A22,Rooms!$D:$D)+SUMIF('F&B'!$C:$C,$A22,'F&B'!$D:$D)+SUMIF('Pools & Spa'!$C:$C,$A22,'Pools & Spa'!$D:$D)+SUMIF('Common Areas'!$C:$C,$A22,'Common Areas'!$D:$D) -> 40 | C22: =SUMIF(Rooms!$C:$C,$A22,Rooms!$E:$E)+SUMIF('F&B'!$C:$C,$A22,'F&B'!$E:$E)+SUMIF('Pools & Spa'!$C:$C,$A22,'Pools & Spa'!$E:$E)+SUMIF('Common Areas'!$C:$C,$A22,'Common Areas'!$E:$E) -> 2 | D22: =SUMIF(Rooms!$C:$C,$A22,Rooms!$F:$F)+SUMIF('F&B'!$C:$C,$A22,'F&B'!$F:$F)+SUMIF('Pools & Spa'!$C:$C,$A22,'Pools & Spa'!$F:$F)+SUMIF('Common Areas'!$C:$C,$A22,'Common Areas'!$F:$F) -> 2 | E22: =SUMIF(Rooms!$C:$C,$A22,Rooms!$G:$G)+SUMIF('F&B'!$C:$C,$A22,'F&B'!$G:$G)+SUMIF('Pools & Spa'!$C:$C,$A22,'Pools & Spa'!$G:$G)+SUMIF('Common Areas'!$C:$C,$A22,'Common Areas'!$G:$G) -> 2 | F22: =SUM(B22:E22) -> 46 | G22: =SUMIF(Rooms!$C:$C,$A22,Rooms!$I:$I)+SUMIF('F&B'!$C:$C,$A22,'F&B'!$I:$I)+SUMIF('Pools & Spa'!$C:$C,$A22,'Pools & Spa'!$I:$I)+SUMIF('Common Areas'!$C:$C,$A22,'Common Areas'!$I:$I) -> 52
A23: Indoor dining chairs | B23: =SUMIF(Rooms!$C:$C,$A23,Rooms!$D:$D)+SUMIF('F&B'!$C:$C,$A23,'F&B'!$D:$D)+SUMIF('Pools & Spa'!$C:$C,$A23,'Pools & Spa'!$D:$D)+SUMIF('Common Areas'!$C:$C,$A23,'Common Areas'!$D:$D) -> 90 | C23: =SUMIF(Rooms!$C:$C,$A23,Rooms!$E:$E)+SUMIF('F&B'!$C:$C,$A23,'F&B'!$E:$E)+SUMIF('Pools & Spa'!$C:$C,$A23,'Pools & Spa'!$E:$E)+SUMIF('Common Areas'!$C:$C,$A23,'Common Areas'!$E:$E) -> 40 | D23: =SUMIF(Rooms!$C:$C,$A23,Rooms!$F:$F)+SUMIF('F&B'!$C:$C,$A23,'F&B'!$F:$F)+SUMIF('Pools & Spa'!$C:$C,$A23,'Pools & Spa'!$F:$F)+SUMIF('Common Areas'!$C:$C,$A23,'Common Areas'!$F:$F) -> 16 | E23: =SUMIF(Rooms!$C:$C,$A23,Rooms!$G:$G)+SUMIF('F&B'!$C:$C,$A23,'F&B'!$G:$G)+SUMIF('Pools & Spa'!$C:$C,$A23,'Pools & Spa'!$G:$G)+SUMIF('Common Areas'!$C:$C,$A23,'Common Areas'!$G:$G) -> 30 | F23: =SUM(B23:E23) -> 176 | G23: =SUMIF(Rooms!$C:$C,$A23,Rooms!$I:$I)+SUMIF('F&B'!$C:$C,$A23,'F&B'!$I:$I)+SUMIF('Pools & Spa'!$C:$C,$A23,'Pools & Spa'!$I:$I)+SUMIF('Common Areas'!$C:$C,$A23,'Common Areas'!$I:$I) -> 194
... A48: Bath textiles | B48: =SUMIF(Rooms!$C:$C,$A48,Rooms!$D:$D)+SUMIF('F&B'!$C:$C,$A48,'F&B'!$D:$D)+SUMIF('Pools & Spa'!$C:$C,$A48,'Pools & Spa'!$D:$D)+SUMIF('Common Areas'!$C:$C,$A48,'Common Areas'!$D:$D) -> 105 | C48: =SUMIF(Rooms!$C:$C,$A48,Rooms!$E:$E)+SUMIF('F&B'!$C:$C,$A48,'F&B'!$E:$E)+SUMIF('Pools & Spa'!$C:$C,$A48,'Pools & Spa'!$E:$E)+SUMIF('Common Areas'!$C:$C,$A48,'Common Areas'!$E:$E) -> 140 | D48: =SUMIF(Rooms!$C:$C,$A48,Rooms!$F:$F)+SUMIF('F&B'!$C:$C,$A48,'F&B'!$F:$F)+SUMIF('Pools & Spa'!$C:$C,$A48,'Pools & Spa'!$F:$F)+SUMIF('Common Areas'!$C:$C,$A48,'Common Areas'!$F:$F) -> 91 | E48: =SUMIF(Rooms!$C:$C,$A48,Rooms!$G:$G)+SUMIF('F&B'!$C:$C,$A48,'F&B'!$G:$G)+SUMIF('Pools & Spa'!$C:$C,$A48,'Pools & Spa'!$G:$G)+SUMIF('Common Areas'!$C:$C,$A48,'Common Areas'!$G:$G) -> 91 | F48: =SUM(B48:E48) -> 427 | G48: =SUMIF(Rooms!$C:$C,$A48,Rooms!$I:$I)+SUMIF('F&B'!$C:$C,$A48,'F&B'!$I:$I)+SUMIF('Pools & Spa'!$C:$C,$A48,'Pools & Spa'!$I:$I)+SUMIF('Common Areas'!$C:$C,$A48,'Common Areas'!$I:$I) -> 471
A49: Total lamps (rooms + F&B + common areas) | B49: =B20+B21+B22 -> 216 | C49: =C20+C21+C22 -> 141 | D49: =D20+D21+D22 -> 88 | E49: =E20+E21+E22 -> 99 | F49: =F20+F21+F22 -> 544 | G49: =G20+G21+G22 -> 604
A50: Total chairs (dining + terrace + common + desk) | B50: =B23+B24+B25+B18 -> 272 | C50: =C23+C24+C25+C18 -> 126 | D50: =D23+D24+D25+D18 -> 158 | E50: =E23+E24+E25+E18 -> 98 | F50: =F23+F24+F25+F18 -> 654 | G50: =G23+G24+G25+G18 -> 723

Sheet Hotel Standards
A1: Hotel-grade (contract) requirements to include in every supplier request
A2: Research 18/10/2026. Legal status checked where a source was found; other lines are standard contract-furniture practice. Confirm with the architect, Turisme and the insurer before tendering.
A4: Topic | B4: Requirement / spec to request | C4: Applies to | D4: Legal status in Jávea (Comunitat Valenciana) | E4: Source
A5: Height-adjustable beds | B5: Liftable bed bases (mechanical or electric) so housekeeping can work without bending; excludes extra/sofa beds in the Canarias law. | C5: All hotel beds | D5: NOT found as mandatory in the Comunitat Valenciana or at national level (checked 18/10/2026). Mandatory in Canarias (Ley 1/2026: 4–5* hotels 25% by 2027, 45% 2029, 75% 2031, 100% 2033); Baleares tourism law also requires it. Recommended anyway: likely to spread and a 2028 opening should not need retrofitting. | E5: BOE-A-2026-17187 (Ley 1/2026 Canarias); idealista / mallorcadiario on Baleares
A6: Upholstered seating — fire | B6: Certificates UNE-EN 1021-1 (cigarette) and UNE-EN 1021-2 (match) for fabric + foam combination. | C6: Restaurant, bar, lounge, library, multipurpose room seats; request for rooms too | D6: Cited in CTE DB-SI, Section SI 1, para. 4 (upholstered fixed seats in assembly-type spaces). Request for all upholstery as contract standard. | E6: CTE DB-SI Anejo G; SI 1 §4
A7: Curtains and suspended textiles — fire | B7: UNE-EN 13773 Class 1 (flame-retardant, inherently FR fabric preferred over treated fabric so it survives washing). | C7: Public areas; request for rooms too | D7: UNE-EN 13773 is cited in CTE DB-SI SI 1 §4 for suspended textiles in public-use areas. | E7: CTE DB-SI Anejo G
A8: Mattresses — fire | B8: EN 597-1 / EN 597-2 (cigarette / match) contract mattresses; removable washable covers and protectors. | C8: All beds | D8: Contract standard; confirm with insurer/operator. | E8: Industry practice (contract mattresses)
A9: Accessible rooms | B9: 1 accessible unit per establishment of 5–50 units: adapted bed height and clear space, wardrobe, desk, bathroom. | C9: 4 rooms total (1 per licence) | D9: Mandatory: CTE DB-SUA 9, Table 1.1. | E9: CTE DB-SUA Section SUA 9
A10: Durability — contract grade | B10: Seating tested for non-domestic use (EN 16139), tables for non-domestic use (EN 15372); reinforced joints, replaceable parts, spare-part availability ≥ 5 years. | C10: All loose furniture | D10: Not a legal obligation; essential for hotel wear (domestic furniture fails fast). | E10: Contract practice
A11: Humidity and sea air | B11: Moisture-stable woods, stainless/marine-grade fittings, UV-stable outdoor fabrics and solution-dyed acrylics; spa furniture rated for high humidity. | C11: Outdoor, pool, spa furniture | D11: Humidity named as a central design constraint (technical meeting 25/09/26). | E11: #tosalet-comite-operativo 01/10/26
A12: Hygiene and maintenance | B12: Removable, washable covers; stain-resistant finishes; easy-clean leg/floor clearance for housekeeping; no fragile decorative parts in rooms. | C12: Rooms, F&B | D12: Operational standard. | E12: Contract practice
A13: 5* classification (Decreto 10/2021) | B13: Hotels are classified by a self-assessment questionnaire (5* = 650 points, Gran Lujo = 800). Room items count towards points: get the questionnaire Reyes already used (04/08/26) to check bed sizes and mandatory room equipment before ordering. | C13: Hotels 1–2 (5*), 3–4 (4*) | D13: Mandatory classification system; detailed room items not verified here. | E13: turismecv.com webinar Decreto 10/2021

Sheet Assumptions
A1: CASA TOSALET · FF&E Quantity Forecast — Base Assumptions
A2: Working version 18/10/2026 · project not yet final · indicative quantities to open supplier negotiations
A3: Legend: BLUE text on yellow = editable assumptions (the whole file recalculates) · black = formulas · green = links to other sheets
A6: Accommodation unit | B6: Building / use | C6: Category | D6: Keys | E6: Phase (1–4) | F6: Indicative timing | G6: Suites | H6: Doubles with lounge | I6: Doubles | J6: Bedrooms | K6: Lounges | L6: Bathrooms | M6: Lodge (1/0)
A7: Hotel 1 · Casa Club | B7: Main building: reception, members' restaurant, bar, bakery-café, library, privé, rooms | C7: 5* | D7: 14 | E7: 1 | F7: First licence · opening target 2028 (TBC) | G7: =IF(C7="5*",MAX(1,ROUND(D7*$B$15,0)),ROUND(D7*$B$15,0)) -> 1 | H7: =ROUND(D7*$B$14,0) -> 3 | I7: =D7-G7-H7 -> 10 | J7: =I7+H7+G7*$B$16 -> 15 | K7: =H7+G7 -> 4 | L7: =J7 -> 15 | M7: 0
A8: Hotel 2 · Spa / Wellness | B8: Spa, gym, heated pool, wellness restaurant & bar, rooms | C8: 5* | D8: 18 | E8: 2 | F8: Spa by phases; hotel licence requested later (TBC) | G8: =IF(C8="5*",MAX(1,ROUND(D8*$B$15,0)),ROUND(D8*$B$15,0)) -> 2 | H8: =ROUND(D8*$B$14,0) -> 4 | I8: =D8-G8-H8 -> 12 | J8: =I8+H8+G8*$B$16 -> 20 | K8: =H8+G8 -> 6 | L8: =J8 -> 20 | M8: 0
A9: Hotel 3 · Lodges A (4*) | B9: Glass-cube reception, healthy bar, lodges, multipurpose room | C9: 4* | D9: 12 | E9: 3 | F9: TBC | G9: =IF(C9="5*",MAX(1,ROUND(D9*$B$15,0)),ROUND(D9*$B$15,0)) -> 1 | H9: =ROUND(D9*$B$14,0) -> 2 | I9: =D9-G9-H9 -> 9 | J9: =I9+H9+G9*$B$16 -> 13 | K9: =H9+G9 -> 3 | L9: =J9 -> 13 | M9: 1
A10: Hotel 4 · Lodges B (4*) | B10: Lodges, F&B outlet, own reception | C10: 4* | D10: 12 | E10: 4 | F10: TBC | G10: =IF(C10="5*",MAX(1,ROUND(D10*$B$15,0)),ROUND(D10*$B$15,0)) -> 1 | H10: =ROUND(D10*$B$14,0) -> 2 | I10: =D10-G10-H10 -> 9 | J10: =I10+H10+G10*$B$16 -> 13 | K10: =H10+G10 -> 3 | L10: =J10 -> 13 | M10: 1
A11: Total | D11: =SUM(D7:D10) -> 56 | G11: =SUM(G7:G10) -> 5 | H11: =SUM(H7:H10) -> 11 | I11: =SUM(I7:I10) -> 40 | J11: =SUM(J7:J10) -> 61 | K11: =SUM(K7:K10) -> 16 | L11: =SUM(L7:L10) -> 61
A13: Parameters
A14: % doubles with lounge | B14: 0.2 | C14: Assumption. Room types per hotel requested from Nacho (04/08/26); not yet received.
A15: % suites | B15: 0.1 | C15: Assumption. Suite mandatory in 5* (min. 1 per 5* hotel, forced in the formula).
A16: Bedrooms per suite | B16: 2 | C16: Suite = 2 bedrooms with bathroom + lounge.
A17: Windows / openings per key (curtains) | B17: 3 | C17: Assumption, to be checked on the plans.
A18: Negotiation margin (max quantity) | B18: 0.1 | C18: To request tiered min–max pricing from suppliers.
A19: Covers per table (average) | B19: 2.5 | C19: Mix of 2- and 4-seat tables.
A21: Calculation drivers per phase (used by the detail sheets)
A22: Driver | B22: Phase 1 | C22: Phase 2 | D22: Phase 3 | E22: Phase 4 | F22: Total
A23: key | B23: =SUMPRODUCT($D$7:$D$10*($E$7:$E$10=1)) -> 14 | C23: =SUMPRODUCT($D$7:$D$10*($E$7:$E$10=2)) -> 18 | D23: =SUMPRODUCT($D$7:$D$10*($E$7:$E$10=3)) -> 12 | E23: =SUMPRODUCT($D$7:$D$10*($E$7:$E$10=4)) -> 12 | F23: =SUM(B23:E23) -> 56
A24: bedroom | B24: =SUMPRODUCT($J$7:$J$10*($E$7:$E$10=1)) -> 15 | C24: =SUMPRODUCT($J$7:$J$10*($E$7:$E$10=2)) -> 20 | D24: =SUMPRODUCT($J$7:$J$10*($E$7:$E$10=3)) -> 13 | E24: =SUMPRODUCT($J$7:$J$10*($E$7:$E$10=4)) -> 13 | F24: =SUM(B24:E24) -> 61
A25: lounge | B25: =SUMPRODUCT($K$7:$K$10*($E$7:$E$10=1)) -> 4 | C25: =SUMPRODUCT($K$7:$K$10*($E$7:$E$10=2)) -> 6 | D25: =SUMPRODUCT($K$7:$K$10*($E$7:$E$10=3)) -> 3 | E25: =SUMPRODUCT($K$7:$K$10*($E$7:$E$10=4)) -> 3 | F25: =SUM(B25:E25) -> 16
A26: bathroom | B26: =SUMPRODUCT($L$7:$L$10*($E$7:$E$10=1)) -> 15 | C26: =SUMPRODUCT($L$7:$L$10*($E$7:$E$10=2)) -> 20 | D26: =SUMPRODUCT($L$7:$L$10*($E$7:$E$10=3)) -> 13 | E26: =SUMPRODUCT($L$7:$L$10*($E$7:$E$10=4)) -> 13 | F26: =SUM(B26:E26) -> 61
A27: terrace | B27: =SUMPRODUCT($D$7:$D$10*($E$7:$E$10=1)) -> 14 | C27: =SUMPRODUCT($D$7:$D$10*($E$7:$E$10=2)) -> 18 | D27: =SUMPRODUCT($D$7:$D$10*($E$7:$E$10=3)) -> 12 | E27: =SUMPRODUCT($D$7:$D$10*($E$7:$E$10=4)) -> 12 | F27: =SUM(B27:E27) -> 56
A28: window | B28: =SUMPRODUCT($D$7:$D$10*$B$17*($E$7:$E$10=1)) -> 42 | C28: =SUMPRODUCT($D$7:$D$10*$B$17*($E$7:$E$10=2)) -> 54 | D28: =SUMPRODUCT($D$7:$D$10*$B$17*($E$7:$E$10=3)) -> 36 | E28: =SUMPRODUCT($D$7:$D$10*$B$17*($E$7:$E$10=4)) -> 36 | F28: =SUM(B28:E28) -> 168
A29: lodge | B29: =SUMPRODUCT($D$7:$D$10*$M$7:$M$10*($E$7:$E$10=1)) -> 0 | C29: =SUMPRODUCT($D$7:$D$10*$M$7:$M$10*($E$7:$E$10=2)) -> 0 | D29: =SUMPRODUCT($D$7:$D$10*$M$7:$M$10*($E$7:$E$10=3)) -> 12 | E29: =SUMPRODUCT($D$7:$D$10*$M$7:$M$10*($E$7:$E$10=4)) -> 12 | F29: =SUM(B29:E29) -> 24
A30: hotel | B30: =SUMPRODUCT(--($E$7:$E$10=1)) -> 1 | C30: =SUMPRODUCT(--($E$7:$E$10=2)) -> 1 | D30: =SUMPRODUCT(--($E$7:$E$10=3)) -> 1 | E30: =SUMPRODUCT(--($E$7:$E$10=4)) -> 1 | F30: =SUM(B30:E30) -> 4

Sheet Rooms
A1: Rooms and lodges — FF&E kit per unit, by phase
A2: Quantity = qty per unit × driver per phase from Assumptions. Wardrobes and headboards may be bespoke joinery: check against the construction specification.
A4: Item (EN) | B4: Denominación (ES) — for suppliers | C4: Summary group | D4: Phase 1 | E4: Phase 2 | F4: Phase 3 | G4: Phase 4 | H4: Total | I4: Max to negotiate | J4: Notes / to confirm | K4: Driver | L4: Qty / unit
A5: Height-adjustable (liftable) bed base 90×200 zip&link | B5: Somier/base elevable 90×200 unible (zip & link) | C5: Beds (90×200 bases) | D5: =$L5*INDEX(Assumptions!$B$23:$B$30,MATCH($K5,Assumptions!$A$23:$A$30,0)) -> 30 | E5: =$L5*INDEX(Assumptions!$C$23:$C$30,MATCH($K5,Assumptions!$A$23:$A$30,0)) -> 40 | F5: =$L5*INDEX(Assumptions!$D$23:$D$30,MATCH($K5,Assumptions!$A$23:$A$30,0)) -> 26 | G5: =$L5*INDEX(Assumptions!$E$23:$E$30,MATCH($K5,Assumptions!$A$23:$A$30,0)) -> 26 | H5: =SUM(D5:G5) -> 122 | I5: =ROUNDUP(H5*(1+Assumptions!$B$18),0) -> 135 | J5: 2 bases = 1 king, splits into twin. Liftable (mechanical or electric) for housekeeping ergonomics — mandatory in Canarias (Ley 1/2026); see Hotel Standards sheet. | K5: bedroom | L5: 2
A6: Accessible-room furniture kit (bed, wardrobe, desk adapted) | B6: Kit mobiliario habitación accesible | C6: Accessible-room kits | D6: =$L6*INDEX(Assumptions!$B$23:$B$30,MATCH($K6,Assumptions!$A$23:$A$30,0)) -> 1 | E6: =$L6*INDEX(Assumptions!$C$23:$C$30,MATCH($K6,Assumptions!$A$23:$A$30,0)) -> 1 | F6: =$L6*INDEX(Assumptions!$D$23:$D$30,MATCH($K6,Assumptions!$A$23:$A$30,0)) -> 1 | G6: =$L6*INDEX(Assumptions!$E$23:$E$30,MATCH($K6,Assumptions!$A$23:$A$30,0)) -> 1 | H6: =SUM(D6:G6) -> 4 | I6: =ROUNDUP(H6*(1+Assumptions!$B$18),0) -> 5 | J6: CTE DB-SUA: 1 accessible unit per establishment of 5–50 units; 4 independent licences → 1 per hotel. Layout and heights to be fixed with the architect. | K6: hotel | L6: 1
A7: Mattress 90×200 zip&link | B7: Colchón 90×200 unible | C7: Mattresses | D7: =$L7*INDEX(Assumptions!$B$23:$B$30,MATCH($K7,Assumptions!$A$23:$A$30,0)) -> 30 | E7: =$L7*INDEX(Assumptions!$C$23:$C$30,MATCH($K7,Assumptions!$A$23:$A$30,0)) -> 40 | F7: =$L7*INDEX(Assumptions!$D$23:$D$30,MATCH($K7,Assumptions!$A$23:$A$30,0)) -> 26 | G7: =$L7*INDEX(Assumptions!$E$23:$E$30,MATCH($K7,Assumptions!$A$23:$A$30,0)) -> 26 | H7: =SUM(D7:G7) -> 122 | I7: =ROUNDUP(H7*(1+Assumptions!$B$18),0) -> 135 | J7: Deep-sleep quality (MAVI / Passive House line). | K7: bedroom | L7: 2
A8: Topper king 180×200 | B8: Topper 180×200 | C8: Room textiles | D8: =$L8*INDEX(Assumptions!$B$23:$B$30,MATCH($K8,Assumptions!$A$23:$A$30,0)) -> 15 | E8: =$L8*INDEX(Assumptions!$C$23:$C$30,MATCH($K8,Assumptions!$A$23:$A$30,0)) -> 20 | F8: =$L8*INDEX(Assumptions!$D$23:$D$30,MATCH($K8,Assumptions!$A$23:$A$30,0)) -> 13 | G8: =$L8*INDEX(Assumptions!$E$23:$E$30,MATCH($K8,Assumptions!$A$23:$A$30,0)) -> 13 | H8: =SUM(D8:G8) -> 61 | I8: =ROUNDUP(H8*(1+Assumptions!$B$18),0) -> 68 | K8: bedroom | L8: 1
A9: King headboard | B9: Cabecero 180 | C9: Headboards | D9: =$L9*INDEX(Assumptions!$B$23:$B$30,MATCH($K9,Assumptions!$A$23:$A$30,0)) -> 15 | E9: =$L9*INDEX(Assumptions!$C$23:$C$30,MATCH($K9,Assumptions!$A$23:$A$30,0)) -> 20 | F9: =$L9*INDEX(Assumptions!$D$23:$D$30,MATCH($K9,Assumptions!$A$23:$A$30,0)) -> 13 | G9: =$L9*INDEX(Assumptions!$E$23:$E$30,MATCH($K9,Assumptions!$A$23:$A$30,0)) -> 13 | H9: =SUM(D9:G9) -> 61 | I9: =ROUNDUP(H9*(1+Assumptions!$B$18),0) -> 68 | J9: Possibly bespoke joinery. | K9: bedroom | L9: 1
A10: Bedside table | B10: Mesita de noche | C10: Bedside tables | D10: =$L10*INDEX(Assumptions!$B$23:$B$30,MATCH($K10,Assumptions!$A$23:$A$30,0)) -> 30 | E10: =$L10*INDEX(Assumptions!$C$23:$C$30,MATCH($K10,Assumptions!$A$23:$A$30,0)) -> 40 | F10: =$L10*INDEX(Assumptions!$D$23:$D$30,MATCH($K10,Assumptions!$A$23:$A$30,0)) -> 26 | G10: =$L10*INDEX(Assumptions!$E$23:$E$30,MATCH($K10,Assumptions!$A$23:$A$30,0)) -> 26 | H10: =SUM(D10:G10) -> 122 | I10: =ROUNDUP(H10*(1+Assumptions!$B$18),0) -> 135 | K10: bedroom | L10: 2
A11: Bedside lamp / reading wall light | B11: Lámpara de mesita / aplique de lectura | C11: Room lamps | D11: =$L11*INDEX(Assumptions!$B$23:$B$30,MATCH($K11,Assumptions!$A$23:$A$30,0)) -> 30 | E11: =$L11*INDEX(Assumptions!$C$23:$C$30,MATCH($K11,Assumptions!$A$23:$A$30,0)) -> 40 | F11: =$L11*INDEX(Assumptions!$D$23:$D$30,MATCH($K11,Assumptions!$A$23:$A$30,0)) -> 26 | G11: =$L11*INDEX(Assumptions!$E$23:$E$30,MATCH($K11,Assumptions!$A$23:$A$30,0)) -> 26 | H11: =SUM(D11:G11) -> 122 | I11: =ROUNDUP(H11*(1+Assumptions!$B$18),0) -> 135 | J11: Warm amber light, no blue (luz brasa concept). | K11: bedroom | L11: 2
A12: Bed-end bench | B12: Banqueta pie de cama | C12: Benches / luggage racks | D12: =$L12*INDEX(Assumptions!$B$23:$B$30,MATCH($K12,Assumptions!$A$23:$A$30,0)) -> 15 | E12: =$L12*INDEX(Assumptions!$C$23:$C$30,MATCH($K12,Assumptions!$A$23:$A$30,0)) -> 20 | F12: =$L12*INDEX(Assumptions!$D$23:$D$30,MATCH($K12,Assumptions!$A$23:$A$30,0)) -> 13 | G12: =$L12*INDEX(Assumptions!$E$23:$E$30,MATCH($K12,Assumptions!$A$23:$A$30,0)) -> 13 | H12: =SUM(D12:G12) -> 61 | I12: =ROUNDUP(H12*(1+Assumptions!$B$18),0) -> 68 | K12: bedroom | L12: 1
A13: Bedroom armchair | B13: Butaca dormitorio | C13: Armchairs & lounge seating | D13: =$L13*INDEX(Assumptions!$B$23:$B$30,MATCH($K13,Assumptions!$A$23:$A$30,0)) -> 15 | E13: =$L13*INDEX(Assumptions!$C$23:$C$30,MATCH($K13,Assumptions!$A$23:$A$30,0)) -> 20 | F13: =$L13*INDEX(Assumptions!$D$23:$D$30,MATCH($K13,Assumptions!$A$23:$A$30,0)) -> 13 | G13: =$L13*INDEX(Assumptions!$E$23:$E$30,MATCH($K13,Assumptions!$A$23:$A$30,0)) -> 13 | H13: =SUM(D13:G13) -> 61 | I13: =ROUNDUP(H13*(1+Assumptions!$B$18),0) -> 68 | K13: bedroom | L13: 1
A14: Pouf / ottoman | B14: Puf / otomana | C14: Armchairs & lounge seating | D14: =$L14*INDEX(Assumptions!$B$23:$B$30,MATCH($K14,Assumptions!$A$23:$A$30,0)) -> 15 | E14: =$L14*INDEX(Assumptions!$C$23:$C$30,MATCH($K14,Assumptions!$A$23:$A$30,0)) -> 20 | F14: =$L14*INDEX(Assumptions!$D$23:$D$30,MATCH($K14,Assumptions!$A$23:$A$30,0)) -> 13 | G14: =$L14*INDEX(Assumptions!$E$23:$E$30,MATCH($K14,Assumptions!$A$23:$A$30,0)) -> 13 | H14: =SUM(D14:G14) -> 61 | I14: =ROUNDUP(H14*(1+Assumptions!$B$18),0) -> 68 | K14: bedroom | L14: 1
A15: Bedroom rug | B15: Alfombra dormitorio | C15: Rugs | D15: =$L15*INDEX(Assumptions!$B$23:$B$30,MATCH($K15,Assumptions!$A$23:$A$30,0)) -> 15 | E15: =$L15*INDEX(Assumptions!$C$23:$C$30,MATCH($K15,Assumptions!$A$23:$A$30,0)) -> 20 | F15: =$L15*INDEX(Assumptions!$D$23:$D$30,MATCH($K15,Assumptions!$A$23:$A$30,0)) -> 13 | G15: =$L15*INDEX(Assumptions!$E$23:$E$30,MATCH($K15,Assumptions!$A$23:$A$30,0)) -> 13 | H15: =SUM(D15:G15) -> 61 | I15: =ROUNDUP(H15*(1+Assumptions!$B$18),0) -> 68 | K15: bedroom | L15: 1
A16: Wardrobe (if not bespoke) | B16: Armario (si no es a medida) | C16: Wardrobes | D16: =$L16*INDEX(Assumptions!$B$23:$B$30,MATCH($K16,Assumptions!$A$23:$A$30,0)) -> 15 | E16: =$L16*INDEX(Assumptions!$C$23:$C$30,MATCH($K16,Assumptions!$A$23:$A$30,0)) -> 20 | F16: =$L16*INDEX(Assumptions!$D$23:$D$30,MATCH($K16,Assumptions!$A$23:$A$30,0)) -> 13 | G16: =$L16*INDEX(Assumptions!$E$23:$E$30,MATCH($K16,Assumptions!$A$23:$A$30,0)) -> 13 | H16: =SUM(D16:G16) -> 61 | I16: =ROUNDUP(H16*(1+Assumptions!$B$18),0) -> 68 | J16: CLARIFICATION: likely joinery within construction scope. | K16: bedroom | L16: 1
A17: Desk / writing table | B17: Escritorio | C17: Desks | D17: =$L17*INDEX(Assumptions!$B$23:$B$30,MATCH($K17,Assumptions!$A$23:$A$30,0)) -> 14 | E17: =$L17*INDEX(Assumptions!$C$23:$C$30,MATCH($K17,Assumptions!$A$23:$A$30,0)) -> 18 | F17: =$L17*INDEX(Assumptions!$D$23:$D$30,MATCH($K17,Assumptions!$A$23:$A$30,0)) -> 12 | G17: =$L17*INDEX(Assumptions!$E$23:$E$30,MATCH($K17,Assumptions!$A$23:$A$30,0)) -> 12 | H17: =SUM(D17:G17) -> 56 | I17: =ROUNDUP(H17*(1+Assumptions!$B$18),0) -> 62 | K17: key | L17: 1
A18: Desk chair | B18: Silla de escritorio | C18: Desk & operator chairs | D18: =$L18*INDEX(Assumptions!$B$23:$B$30,MATCH($K18,Assumptions!$A$23:$A$30,0)) -> 14 | E18: =$L18*INDEX(Assumptions!$C$23:$C$30,MATCH($K18,Assumptions!$A$23:$A$30,0)) -> 18 | F18: =$L18*INDEX(Assumptions!$D$23:$D$30,MATCH($K18,Assumptions!$A$23:$A$30,0)) -> 12 | G18: =$L18*INDEX(Assumptions!$E$23:$E$30,MATCH($K18,Assumptions!$A$23:$A$30,0)) -> 12 | H18: =SUM(D18:G18) -> 56 | I18: =ROUNDUP(H18*(1+Assumptions!$B$18),0) -> 62 | K18: key | L18: 1
A19: Desk lamp | B19: Lámpara de escritorio | C19: Room lamps | D19: =$L19*INDEX(Assumptions!$B$23:$B$30,MATCH($K19,Assumptions!$A$23:$A$30,0)) -> 14 | E19: =$L19*INDEX(Assumptions!$C$23:$C$30,MATCH($K19,Assumptions!$A$23:$A$30,0)) -> 18 | F19: =$L19*INDEX(Assumptions!$D$23:$D$30,MATCH($K19,Assumptions!$A$23:$A$30,0)) -> 12 | G19: =$L19*INDEX(Assumptions!$E$23:$E$30,MATCH($K19,Assumptions!$A$23:$A$30,0)) -> 12 | H19: =SUM(D19:G19) -> 56 | I19: =ROUNDUP(H19*(1+Assumptions!$B$18),0) -> 62 | K19: key | L19: 1
A20: Bedroom floor lamp | B20: Lámpara de pie dormitorio | C20: Room lamps | D20: =$L20*INDEX(Assumptions!$B$23:$B$30,MATCH($K20,Assumptions!$A$23:$A$30,0)) -> 14 | E20: =$L20*INDEX(Assumptions!$C$23:$C$30,MATCH($K20,Assumptions!$A$23:$A$30,0)) -> 18 | F20: =$L20*INDEX(Assumptions!$D$23:$D$30,MATCH($K20,Assumptions!$A$23:$A$30,0)) -> 12 | G20: =$L20*INDEX(Assumptions!$E$23:$E$30,MATCH($K20,Assumptions!$A$23:$A$30,0)) -> 12 | H20: =SUM(D20:G20) -> 56 | I20: =ROUNDUP(H20*(1+Assumptions!$B$18),0) -> 62 | K20: key | L20: 1
A21: Decorative pendant / lamp | B21: Lámpara colgante decorativa | C21: Room lamps | D21: =$L21*INDEX(Assumptions!$B$23:$B$30,MATCH($K21,Assumptions!$A$23:$A$30,0)) -> 14 | E21: =$L21*INDEX(Assumptions!$C$23:$C$30,MATCH($K21,Assumptions!$A$23:$A$30,0)) -> 18 | F21: =$L21*INDEX(Assumptions!$D$23:$D$30,MATCH($K21,Assumptions!$A$23:$A$30,0)) -> 12 | G21: =$L21*INDEX(Assumptions!$E$23:$E$30,MATCH($K21,Assumptions!$A$23:$A$30,0)) -> 12 | H21: =SUM(D21:G21) -> 56 | I21: =ROUNDUP(H21*(1+Assumptions!$B$18),0) -> 62 | J21: Technical lighting is part of the architectural project, not FF&E. | K21: key | L21: 1
A22: Side table | B22: Mesa auxiliar | C22: Side & coffee tables | D22: =$L22*INDEX(Assumptions!$B$23:$B$30,MATCH($K22,Assumptions!$A$23:$A$30,0)) -> 14 | E22: =$L22*INDEX(Assumptions!$C$23:$C$30,MATCH($K22,Assumptions!$A$23:$A$30,0)) -> 18 | F22: =$L22*INDEX(Assumptions!$D$23:$D$30,MATCH($K22,Assumptions!$A$23:$A$30,0)) -> 12 | G22: =$L22*INDEX(Assumptions!$E$23:$E$30,MATCH($K22,Assumptions!$A$23:$A$30,0)) -> 12 | H22: =SUM(D22:G22) -> 56 | I22: =ROUNDUP(H22*(1+Assumptions!$B$18),0) -> 62 | K22: key | L22: 1
A23: Full-length mirror | B23: Espejo de cuerpo entero | C23: Mirrors | D23: =$L23*INDEX(Assumptions!$B$23:$B$30,MATCH($K23,Assumptions!$A$23:$A$30,0)) -> 14 | E23: =$L23*INDEX(Assumptions!$C$23:$C$30,MATCH($K23,Assumptions!$A$23:$A$30,0)) -> 18 | F23: =$L23*INDEX(Assumptions!$D$23:$D$30,MATCH($K23,Assumptions!$A$23:$A$30,0)) -> 12 | G23: =$L23*INDEX(Assumptions!$E$23:$E$30,MATCH($K23,Assumptions!$A$23:$A$30,0)) -> 12 | H23: =SUM(D23:G23) -> 56 | I23: =ROUNDUP(H23*(1+Assumptions!$B$18),0) -> 62 | K23: key | L23: 1
A24: Luggage rack | B24: Portamaletas | C24: Benches / luggage racks | D24: =$L24*INDEX(Assumptions!$B$23:$B$30,MATCH($K24,Assumptions!$A$23:$A$30,0)) -> 14 | E24: =$L24*INDEX(Assumptions!$C$23:$C$30,MATCH($K24,Assumptions!$A$23:$A$30,0)) -> 18 | F24: =$L24*INDEX(Assumptions!$D$23:$D$30,MATCH($K24,Assumptions!$A$23:$A$30,0)) -> 12 | G24: =$L24*INDEX(Assumptions!$E$23:$E$30,MATCH($K24,Assumptions!$A$23:$A$30,0)) -> 12 | H24: =SUM(D24:G24) -> 56 | I24: =ROUNDUP(H24*(1+Assumptions!$B$18),0) -> 62 | K24: key | L24: 1
A25: Minibar | B25: Minibar | C25: In-room equipment | D25: =$L25*INDEX(Assumptions!$B$23:$B$30,MATCH($K25,Assumptions!$A$23:$A$30,0)) -> 14 | E25: =$L25*INDEX(Assumptions!$C$23:$C$30,MATCH($K25,Assumptions!$A$23:$A$30,0)) -> 18 | F25: =$L25*INDEX(Assumptions!$D$23:$D$30,MATCH($K25,Assumptions!$A$23:$A$30,0)) -> 12 | G25: =$L25*INDEX(Assumptions!$E$23:$E$30,MATCH($K25,Assumptions!$A$23:$A$30,0)) -> 12 | H25: =SUM(D25:G25) -> 56 | I25: =ROUNDUP(H25*(1+Assumptions!$B$18),0) -> 62 | K25: key | L25: 1
A26: Safe | B26: Caja fuerte | C26: In-room equipment | D26: =$L26*INDEX(Assumptions!$B$23:$B$30,MATCH($K26,Assumptions!$A$23:$A$30,0)) -> 14 | E26: =$L26*INDEX(Assumptions!$C$23:$C$30,MATCH($K26,Assumptions!$A$23:$A$30,0)) -> 18 | F26: =$L26*INDEX(Assumptions!$D$23:$D$30,MATCH($K26,Assumptions!$A$23:$A$30,0)) -> 12 | G26: =$L26*INDEX(Assumptions!$E$23:$E$30,MATCH($K26,Assumptions!$A$23:$A$30,0)) -> 12 | H26: =SUM(D26:G26) -> 56 | I26: =ROUNDUP(H26*(1+Assumptions!$B$18),0) -> 62 | K26: key | L26: 1
A27: Valet stand / coat rack | B27: Galán de noche / perchero | C27: In-room equipment | D27: =$L27*INDEX(Assumptions!$B$23:$B$30,MATCH($K27,Assumptions!$A$23:$A$30,0)) -> 14 | E27: =$L27*INDEX(Assumptions!$C$23:$C$30,MATCH($K27,Assumptions!$A$23:$A$30,0)) -> 18 | F27: =$L27*INDEX(Assumptions!$D$23:$D$30,MATCH($K27,Assumptions!$A$23:$A$30,0)) -> 12 | G27: =$L27*INDEX(Assumptions!$E$23:$E$30,MATCH($K27,Assumptions!$A$23:$A$30,0)) -> 12 | H27: =SUM(D27:G27) -> 56 | I27: =ROUNDUP(H27*(1+Assumptions!$B$18),0) -> 62 | K27: key | L27: 1
A28: Curtain + blackout (set per opening) | B28: Cortina + blackout (juego por hueco) | C28: Curtains (set per opening) | D28: =$L28*INDEX(Assumptions!$B$23:$B$30,MATCH($K28,Assumptions!$A$23:$A$30,0)) -> 42 | E28: =$L28*INDEX(Assumptions!$C$23:$C$30,MATCH($K28,Assumptions!$A$23:$A$30,0)) -> 54 | F28: =$L28*INDEX(Assumptions!$D$23:$D$30,MATCH($K28,Assumptions!$A$23:$A$30,0)) -> 36 | G28: =$L28*INDEX(Assumptions!$E$23:$E$30,MATCH($K28,Assumptions!$A$23:$A$30,0)) -> 36 | H28: =SUM(D28:G28) -> 168 | I28: =ROUNDUP(H28*(1+Assumptions!$B$18),0) -> 185 | J28: Openings to be taken from plans: assumed 3 per key. | K28: window | L28: 1
A29: Lounge sofa (sofa bed) | B29: Sofá (sofá cama) salón | C29: Sofas | D29: =$L29*INDEX(Assumptions!$B$23:$B$30,MATCH($K29,Assumptions!$A$23:$A$30,0)) -> 4 | E29: =$L29*INDEX(Assumptions!$C$23:$C$30,MATCH($K29,Assumptions!$A$23:$A$30,0)) -> 6 | F29: =$L29*INDEX(Assumptions!$D$23:$D$30,MATCH($K29,Assumptions!$A$23:$A$30,0)) -> 3 | G29: =$L29*INDEX(Assumptions!$E$23:$E$30,MATCH($K29,Assumptions!$A$23:$A$30,0)) -> 3 | H29: =SUM(D29:G29) -> 16 | I29: =ROUNDUP(H29*(1+Assumptions!$B$18),0) -> 18 | J29: Only doubles with lounge and suites. | K29: lounge | L29: 1
A30: Lounge coffee table | B30: Mesa de centro salón | C30: Side & coffee tables | D30: =$L30*INDEX(Assumptions!$B$23:$B$30,MATCH($K30,Assumptions!$A$23:$A$30,0)) -> 4 | E30: =$L30*INDEX(Assumptions!$C$23:$C$30,MATCH($K30,Assumptions!$A$23:$A$30,0)) -> 6 | F30: =$L30*INDEX(Assumptions!$D$23:$D$30,MATCH($K30,Assumptions!$A$23:$A$30,0)) -> 3 | G30: =$L30*INDEX(Assumptions!$E$23:$E$30,MATCH($K30,Assumptions!$A$23:$A$30,0)) -> 3 | H30: =SUM(D30:G30) -> 16 | I30: =ROUNDUP(H30*(1+Assumptions!$B$18),0) -> 18 | K30: lounge | L30: 1
A31: Lounge armchair | B31: Butaca salón | C31: Armchairs & lounge seating | D31: =$L31*INDEX(Assumptions!$B$23:$B$30,MATCH($K31,Assumptions!$A$23:$A$30,0)) -> 4 | E31: =$L31*INDEX(Assumptions!$C$23:$C$30,MATCH($K31,Assumptions!$A$23:$A$30,0)) -> 6 | F31: =$L31*INDEX(Assumptions!$D$23:$D$30,MATCH($K31,Assumptions!$A$23:$A$30,0)) -> 3 | G31: =$L31*INDEX(Assumptions!$E$23:$E$30,MATCH($K31,Assumptions!$A$23:$A$30,0)) -> 3 | H31: =SUM(D31:G31) -> 16 | I31: =ROUNDUP(H31*(1+Assumptions!$B$18),0) -> 18 | K31: lounge | L31: 1
A32: Lounge floor lamp | B32: Lámpara de pie salón | C32: Room lamps | D32: =$L32*INDEX(Assumptions!$B$23:$B$30,MATCH($K32,Assumptions!$A$23:$A$30,0)) -> 4 | E32: =$L32*INDEX(Assumptions!$C$23:$C$30,MATCH($K32,Assumptions!$A$23:$A$30,0)) -> 6 | F32: =$L32*INDEX(Assumptions!$D$23:$D$30,MATCH($K32,Assumptions!$A$23:$A$30,0)) -> 3 | G32: =$L32*INDEX(Assumptions!$E$23:$E$30,MATCH($K32,Assumptions!$A$23:$A$30,0)) -> 3 | H32: =SUM(D32:G32) -> 16 | I32: =ROUNDUP(H32*(1+Assumptions!$B$18),0) -> 18 | K32: lounge | L32: 1
A33: Lounge rug | B33: Alfombra salón | C33: Rugs | D33: =$L33*INDEX(Assumptions!$B$23:$B$30,MATCH($K33,Assumptions!$A$23:$A$30,0)) -> 4 | E33: =$L33*INDEX(Assumptions!$C$23:$C$30,MATCH($K33,Assumptions!$A$23:$A$30,0)) -> 6 | F33: =$L33*INDEX(Assumptions!$D$23:$D$30,MATCH($K33,Assumptions!$A$23:$A$30,0)) -> 3 | G33: =$L33*INDEX(Assumptions!$E$23:$E$30,MATCH($K33,Assumptions!$A$23:$A$30,0)) -> 3 | H33: =SUM(D33:G33) -> 16 | I33: =ROUNDUP(H33*(1+Assumptions!$B$18),0) -> 18 | K33: lounge | L33: 1
A34: Lounge console / TV unit | B34: Consola / mueble salón | C34: Storage furniture | D34: =$L34*INDEX(Assumptions!$B$23:$B$30,MATCH($K34,Assumptions!$A$23:$A$30,0)) -> 4 | E34: =$L34*INDEX(Assumptions!$C$23:$C$30,MATCH($K34,Assumptions!$A$23:$A$30,0)) -> 6 | F34: =$L34*INDEX(Assumptions!$D$23:$D$30,MATCH($K34,Assumptions!$A$23:$A$30,0)) -> 3 | G34: =$L34*INDEX(Assumptions!$E$23:$E$30,MATCH($K34,Assumptions!$A$23:$A$30,0)) -> 3 | H34: =SUM(D34:G34) -> 16 | I34: =ROUNDUP(H34*(1+Assumptions!$B$18),0) -> 18 | J34: CLARIFICATION: TV yes/no (silence doctrine). | K34: lounge | L34: 1
A35: Terrace outdoor chair | B35: Silla exterior terraza | C35: Terrace / outdoor chairs | D35: =$L35*INDEX(Assumptions!$B$23:$B$30,MATCH($K35,Assumptions!$A$23:$A$30,0)) -> 28 | E35: =$L35*INDEX(Assumptions!$C$23:$C$30,MATCH($K35,Assumptions!$A$23:$A$30,0)) -> 36 | F35: =$L35*INDEX(Assumptions!$D$23:$D$30,MATCH($K35,Assumptions!$A$23:$A$30,0)) -> 24 | G35: =$L35*INDEX(Assumptions!$E$23:$E$30,MATCH($K35,Assumptions!$A$23:$A$30,0)) -> 24 | H35: =SUM(D35:G35) -> 112 | I35: =ROUNDUP(H35*(1+Assumptions!$B$18),0) -> 124 | K35: terrace | L35: 2
A36: Terrace outdoor table | B36: Mesa exterior terraza | C36: Outdoor tables | D36: =$L36*INDEX(Assumptions!$B$23:$B$30,MATCH($K36,Assumptions!$A$23:$A$30,0)) -> 14 | E36: =$L36*INDEX(Assumptions!$C$23:$C$30,MATCH($K36,Assumptions!$A$23:$A$30,0)) -> 18 | F36: =$L36*INDEX(Assumptions!$D$23:$D$30,MATCH($K36,Assumptions!$A$23:$A$30,0)) -> 12 | G36: =$L36*INDEX(Assumptions!$E$23:$E$30,MATCH($K36,Assumptions!$A$23:$A$30,0)) -> 12 | H36: =SUM(D36:G36) -> 56 | I36: =ROUNDUP(H36*(1+Assumptions!$B$18),0) -> 62 | K36: terrace | L36: 1
A37: Bathroom accessories (set) | B37: Accesorios de baño (juego) | C37: Bathroom equipment | D37: =$L37*INDEX(Assumptions!$B$23:$B$30,MATCH($K37,Assumptions!$A$23:$A$30,0)) -> 15 | E37: =$L37*INDEX(Assumptions!$C$23:$C$30,MATCH($K37,Assumptions!$A$23:$A$30,0)) -> 20 | F37: =$L37*INDEX(Assumptions!$D$23:$D$30,MATCH($K37,Assumptions!$A$23:$A$30,0)) -> 13 | G37: =$L37*INDEX(Assumptions!$E$23:$E$30,MATCH($K37,Assumptions!$A$23:$A$30,0)) -> 13 | H37: =SUM(D37:G37) -> 61 | I37: =ROUNDUP(H37*(1+Assumptions!$B$18),0) -> 68 | J37: Check whether included in the construction specification. | K37: bathroom | L37: 1
A38: King sheet set (par 3) | B38: Juego sábanas king (par 3) | C38: Room textiles | D38: =$L38*INDEX(Assumptions!$B$23:$B$30,MATCH($K38,Assumptions!$A$23:$A$30,0)) -> 45 | E38: =$L38*INDEX(Assumptions!$C$23:$C$30,MATCH($K38,Assumptions!$A$23:$A$30,0)) -> 60 | F38: =$L38*INDEX(Assumptions!$D$23:$D$30,MATCH($K38,Assumptions!$A$23:$A$30,0)) -> 39 | G38: =$L38*INDEX(Assumptions!$E$23:$E$30,MATCH($K38,Assumptions!$A$23:$A$30,0)) -> 39 | H38: =SUM(D38:G38) -> 183 | I38: =ROUNDUP(H38*(1+Assumptions!$B$18),0) -> 202 | J38: OS&E: 3 changes par level. | K38: bedroom | L38: 3
A39: King duvet | B39: Edredón nórdico king | C39: Room textiles | D39: =$L39*INDEX(Assumptions!$B$23:$B$30,MATCH($K39,Assumptions!$A$23:$A$30,0)) -> 15 | E39: =$L39*INDEX(Assumptions!$C$23:$C$30,MATCH($K39,Assumptions!$A$23:$A$30,0)) -> 20 | F39: =$L39*INDEX(Assumptions!$D$23:$D$30,MATCH($K39,Assumptions!$A$23:$A$30,0)) -> 13 | G39: =$L39*INDEX(Assumptions!$E$23:$E$30,MATCH($K39,Assumptions!$A$23:$A$30,0)) -> 13 | H39: =SUM(D39:G39) -> 61 | I39: =ROUNDUP(H39*(1+Assumptions!$B$18),0) -> 68 | K39: bedroom | L39: 1
A40: Bed pillows | B40: Almohadas | C40: Room textiles | D40: =$L40*INDEX(Assumptions!$B$23:$B$30,MATCH($K40,Assumptions!$A$23:$A$30,0)) -> 60 | E40: =$L40*INDEX(Assumptions!$C$23:$C$30,MATCH($K40,Assumptions!$A$23:$A$30,0)) -> 80 | F40: =$L40*INDEX(Assumptions!$D$23:$D$30,MATCH($K40,Assumptions!$A$23:$A$30,0)) -> 52 | G40: =$L40*INDEX(Assumptions!$E$23:$E$30,MATCH($K40,Assumptions!$A$23:$A$30,0)) -> 52 | H40: =SUM(D40:G40) -> 244 | I40: =ROUNDUP(H40*(1+Assumptions!$B$18),0) -> 269 | K40: bedroom | L40: 4
A41: Towel set (par 3) | B41: Juego toallas (par 3) | C41: Bath textiles | D41: =$L41*INDEX(Assumptions!$B$23:$B$30,MATCH($K41,Assumptions!$A$23:$A$30,0)) -> 45 | E41: =$L41*INDEX(Assumptions!$C$23:$C$30,MATCH($K41,Assumptions!$A$23:$A$30,0)) -> 60 | F41: =$L41*INDEX(Assumptions!$D$23:$D$30,MATCH($K41,Assumptions!$A$23:$A$30,0)) -> 39 | G41: =$L41*INDEX(Assumptions!$E$23:$E$30,MATCH($K41,Assumptions!$A$23:$A$30,0)) -> 39 | H41: =SUM(D41:G41) -> 183 | I41: =ROUNDUP(H41*(1+Assumptions!$B$18),0) -> 202 | K41: bathroom | L41: 3
A42: Bathrobe | B42: Albornoz | C42: Bath textiles | D42: =$L42*INDEX(Assumptions!$B$23:$B$30,MATCH($K42,Assumptions!$A$23:$A$30,0)) -> 60 | E42: =$L42*INDEX(Assumptions!$C$23:$C$30,MATCH($K42,Assumptions!$A$23:$A$30,0)) -> 80 | F42: =$L42*INDEX(Assumptions!$D$23:$D$30,MATCH($K42,Assumptions!$A$23:$A$30,0)) -> 52 | G42: =$L42*INDEX(Assumptions!$E$23:$E$30,MATCH($K42,Assumptions!$A$23:$A$30,0)) -> 52 | H42: =SUM(D42:G42) -> 244 | I42: =ROUNDUP(H42*(1+Assumptions!$B$18),0) -> 269 | J42: 2 guests × 2 changes. | K42: bedroom | L42: 4

Sheet F&B
A1: F&B outlets — covers and furniture, by phase
A2: Covers NOT yet defined by the architect (requested 04/08/26). Blue values = assumptions; each hotel needs its own F&B point (meeting 12/08/26).
A4: Outlet | B4: Building | C4: Phase (1–4) | D4: Indoor covers | E4: Terrace covers | F4: Bar stools | G4: Lounge seats | H4: Indoor tables | I4: Terrace tables | J4: Table lamps (rechargeable) | K4: Dining pendants | L4: Lounge floor lamps | M4: Lounge side tables | N4: Children's high chairs
A5: Members' restaurant | B5: Casa Club | C5: 1 | D5: 70 | E5: 50 | F5: 0 | G5: 0 | H5: =ROUNDUP(D5/Assumptions!$B$19,0) -> 28 | I5: =ROUNDUP(E5/Assumptions!$B$19,0) -> 20 | J5: =H5+I5 -> 48 | K5: =ROUNDUP(H5/2,0) -> 14 | L5: =ROUNDUP(G5/4,0) -> 0 | M5: =ROUNDUP(G5/2,0) -> 0 | N5: =IF(D5+E5>0,2,0) -> 2
A6: Bar & lounge | B6: Casa Club | C6: 1 | D6: 0 | E6: 20 | F6: 10 | G6: 24 | H6: =ROUNDUP(D6/Assumptions!$B$19,0) -> 0 | I6: =ROUNDUP(E6/Assumptions!$B$19,0) -> 8 | J6: =H6+I6 -> 8 | K6: =ROUNDUP(H6/2,0) -> 0 | L6: =ROUNDUP(G6/4,0) -> 6 | M6: =ROUNDUP(G6/2,0) -> 12 | N6: =IF(D6+E6>0,2,0) -> 2
A7: Bakery & café (open to the neighbourhood) | B7: Casa Club | C7: 1 | D7: 20 | E7: 30 | F7: 4 | G7: 0 | H7: =ROUNDUP(D7/Assumptions!$B$19,0) -> 8 | I7: =ROUNDUP(E7/Assumptions!$B$19,0) -> 12 | J7: =H7+I7 -> 20 | K7: =ROUNDUP(H7/2,0) -> 4 | L7: =ROUNDUP(G7/4,0) -> 0 | M7: =ROUNDUP(G7/2,0) -> 0 | N7: =IF(D7+E7>0,2,0) -> 2
A8: Wellness restaurant | B8: Spa / Wellness | C8: 2 | D8: 40 | E8: 30 | F8: 0 | G8: 0 | H8: =ROUNDUP(D8/Assumptions!$B$19,0) -> 16 | I8: =ROUNDUP(E8/Assumptions!$B$19,0) -> 12 | J8: =H8+I8 -> 28 | K8: =ROUNDUP(H8/2,0) -> 8 | L8: =ROUNDUP(G8/4,0) -> 0 | M8: =ROUNDUP(G8/2,0) -> 0 | N8: =IF(D8+E8>0,2,0) -> 2
A9: Wellness bar | B9: Spa / Wellness | C9: 2 | D9: 0 | E9: 0 | F9: 6 | G9: 12 | H9: =ROUNDUP(D9/Assumptions!$B$19,0) -> 0 | I9: =ROUNDUP(E9/Assumptions!$B$19,0) -> 0 | J9: =H9+I9 -> 0 | K9: =ROUNDUP(H9/2,0) -> 0 | L9: =ROUNDUP(G9/4,0) -> 3 | M9: =ROUNDUP(G9/2,0) -> 6 | N9: =IF(D9+E9>0,2,0) -> 0
A10: Healthy bar | B10: Lodges A | C10: 3 | D10: 16 | E10: 24 | F10: 6 | G10: 0 | H10: =ROUNDUP(D10/Assumptions!$B$19,0) -> 7 | I10: =ROUNDUP(E10/Assumptions!$B$19,0) -> 10 | J10: =H10+I10 -> 17 | K10: =ROUNDUP(H10/2,0) -> 4 | L10: =ROUNDUP(G10/4,0) -> 0 | M10: =ROUNDUP(G10/2,0) -> 0 | N10: =IF(D10+E10>0,2,0) -> 2
A11: Lodges F&B outlet | B11: Lodges B | C11: 4 | D11: 30 | E11: 30 | F11: 6 | G11: 8 | H11: =ROUNDUP(D11/Assumptions!$B$19,0) -> 12 | I11: =ROUNDUP(E11/Assumptions!$B$19,0) -> 12 | J11: =H11+I11 -> 24 | K11: =ROUNDUP(H11/2,0) -> 6 | L11: =ROUNDUP(G11/4,0) -> 2 | M11: =ROUNDUP(G11/2,0) -> 4 | N11: =IF(D11+E11>0,2,0) -> 2
A12: Total | D12: =SUM(D5:D11) -> 176 | E12: =SUM(E5:E11) -> 184 | F12: =SUM(F5:F11) -> 32 | G12: =SUM(G5:G11) -> 44 | H12: =SUM(H5:H11) -> 71 | I12: =SUM(I5:I11) -> 74 | J12: =SUM(J5:J11) -> 145 | K12: =SUM(K5:K11) -> 36 | ... N12: =SUM(N5:N11) -> 12
A15: Item (EN) | B15: Denominación (ES) — for suppliers | C15: Summary group | D15: Phase 1 | E15: Phase 2 | F15: Phase 3 | G15: Phase 4 | H15: Total | I15: Max to negotiate | J15: Notes / to confirm | K15: Source column
A16: Indoor dining chair | B16: Silla comedor interior | C16: Indoor dining chairs | D16: =SUMPRODUCT($D$5:$D$11*($C$5:$C$11=1)) -> 90 | E16: =SUMPRODUCT($D$5:$D$11*($C$5:$C$11=2)) -> 40 | F16: =SUMPRODUCT($D$5:$D$11*($C$5:$C$11=3)) -> 16 | G16: =SUMPRODUCT($D$5:$D$11*($C$5:$C$11=4)) -> 30 | H16: =SUM(D16:G16) -> 176 | I16: =ROUNDUP(H16*(1+Assumptions!$B$18),0) -> 194 | K16: D
A17: Terrace chair / armchair | B17: Silla / butaca terraza | C17: Terrace / outdoor chairs | D17: =SUMPRODUCT($E$5:$E$11*($C$5:$C$11=1)) -> 100 | E17: =SUMPRODUCT($E$5:$E$11*($C$5:$C$11=2)) -> 30 | F17: =SUMPRODUCT($E$5:$E$11*($C$5:$C$11=3)) -> 24 | G17: =SUMPRODUCT($E$5:$E$11*($C$5:$C$11=4)) -> 30 | H17: =SUM(D17:G17) -> 184 | I17: =ROUNDUP(H17*(1+Assumptions!$B$18),0) -> 203 | J17: Outdoor-grade material. | K17: E
A18: Bar stool | B18: Taburete de barra | C18: Bar stools | D18: =SUMPRODUCT($F$5:$F$11*($C$5:$C$11=1)) -> 14 | E18: =SUMPRODUCT($F$5:$F$11*($C$5:$C$11=2)) -> 6 | F18: =SUMPRODUCT($F$5:$F$11*($C$5:$C$11=3)) -> 6 | G18: =SUMPRODUCT($F$5:$F$11*($C$5:$C$11=4)) -> 6 | H18: =SUM(D18:G18) -> 32 | I18: =ROUNDUP(H18*(1+Assumptions!$B$18),0) -> 36 | K18: F
A19: Lounge armchair / sofa (seats) | B19: Butaca / sofá lounge (plazas) | C19: Armchairs & lounge seating | D19: =SUMPRODUCT($G$5:$G$11*($C$5:$C$11=1)) -> 24 | E19: =SUMPRODUCT($G$5:$G$11*($C$5:$C$11=2)) -> 12 | F19: =SUMPRODUCT($G$5:$G$11*($C$5:$C$11=3)) -> 0 | G19: =SUMPRODUCT($G$5:$G$11*($C$5:$C$11=4)) -> 8 | H19: =SUM(D19:G19) -> 44 | I19: =ROUNDUP(H19*(1+Assumptions!$B$18),0) -> 49 | J19: Counted in seats. | K19: G
A20: Indoor dining table | B20: Mesa comedor interior | C20: Dining tables | D20: =SUMPRODUCT($H$5:$H$11*($C$5:$C$11=1)) -> 36 | E20: =SUMPRODUCT($H$5:$H$11*($C$5:$C$11=2)) -> 16 | F20: =SUMPRODUCT($H$5:$H$11*($C$5:$C$11=3)) -> 7 | G20: =SUMPRODUCT($H$5:$H$11*($C$5:$C$11=4)) -> 12 | H20: =SUM(D20:G20) -> 71 | I20: =ROUNDUP(H20*(1+Assumptions!$B$18),0) -> 79 | J20: Mix of 2 and 4 seats. | K20: H
A21: Terrace table | B21: Mesa terraza | C21: Outdoor tables | D21: =SUMPRODUCT($I$5:$I$11*($C$5:$C$11=1)) -> 40 | E21: =SUMPRODUCT($I$5:$I$11*($C$5:$C$11=2)) -> 12 | F21: =SUMPRODUCT($I$5:$I$11*($C$5:$C$11=3)) -> 10 | G21: =SUMPRODUCT($I$5:$I$11*($C$5:$C$11=4)) -> 12 | H21: =SUM(D21:G21) -> 74 | I21: =ROUNDUP(H21*(1+Assumptions!$B$18),0) -> 82 | K21: I
A22: Rechargeable table lamp | B22: Lámpara de mesa recargable | C22: F&B lamps | D22: =SUMPRODUCT($J$5:$J$11*($C$5:$C$11=1)) -> 76 | E22: =SUMPRODUCT($J$5:$J$11*($C$5:$C$11=2)) -> 28 | F22: =SUMPRODUCT($J$5:$J$11*($C$5:$C$11=3)) -> 17 | G22: =SUMPRODUCT($J$5:$J$11*($C$5:$C$11=4)) -> 24 | H22: =SUM(D22:G22) -> 145 | I22: =ROUNDUP(H22*(1+Assumptions!$B$18),0) -> 160 | J22: 1 per table, indoor + terrace. | K22: J
A23: Decorative dining pendant | B23: Lámpara colgante sala | C23: F&B lamps | D23: =SUMPRODUCT($K$5:$K$11*($C$5:$C$11=1)) -> 18 | E23: =SUMPRODUCT($K$5:$K$11*($C$5:$C$11=2)) -> 8 | F23: =SUMPRODUCT($K$5:$K$11*($C$5:$C$11=3)) -> 4 | G23: =SUMPRODUCT($K$5:$K$11*($C$5:$C$11=4)) -> 6 | H23: =SUM(D23:G23) -> 36 | I23: =ROUNDUP(H23*(1+Assumptions!$B$18),0) -> 40 | J23: 1 every 2 indoor tables. | K23: K
A24: Lounge floor lamp | B24: Lámpara de pie lounge | C24: F&B lamps | D24: =SUMPRODUCT($L$5:$L$11*($C$5:$C$11=1)) -> 6 | E24: =SUMPRODUCT($L$5:$L$11*($C$5:$C$11=2)) -> 3 | F24: =SUMPRODUCT($L$5:$L$11*($C$5:$C$11=3)) -> 0 | G24: =SUMPRODUCT($L$5:$L$11*($C$5:$C$11=4)) -> 2 | H24: =SUM(D24:G24) -> 11 | I24: =ROUNDUP(H24*(1+Assumptions!$B$18),0) -> 13 | K24: L
A25: Lounge side table | B25: Mesa auxiliar lounge | C25: Side & coffee tables | D25: =SUMPRODUCT($M$5:$M$11*($C$5:$C$11=1)) -> 12 | E25: =SUMPRODUCT($M$5:$M$11*($C$5:$C$11=2)) -> 6 | F25: =SUMPRODUCT($M$5:$M$11*($C$5:$C$11=3)) -> 0 | G25: =SUMPRODUCT($M$5:$M$11*($C$5:$C$11=4)) -> 4 | H25: =SUM(D25:G25) -> 22 | I25: =ROUNDUP(H25*(1+Assumptions!$B$18),0) -> 25 | K25: M
A26: Children's high chair | B26: Trona infantil | C26: High chairs | D26: =SUMPRODUCT($N$5:$N$11*($C$5:$C$11=1)) -> 6 | E26: =SUMPRODUCT($N$5:$N$11*($C$5:$C$11=2)) -> 2 | F26: =SUMPRODUCT($N$5:$N$11*($C$5:$C$11=3)) -> 2 | G26: =SUMPRODUCT($N$5:$N$11*($C$5:$C$11=4)) -> 2 | H26: =SUM(D26:G26) -> 12 | I26: =ROUNDUP(H26*(1+Assumptions!$B$18),0) -> 14 | K26: N

Sheet Pools & Spa
A1: Pools, sun decks and spa — by phase
A2: Website: three pools planned, one heated · 2,000 m² spa · ~30 simultaneous users (report 24/02/26). Sunbed numbers not yet defined by the architect.
A4: Area | B4: Phase (1–4) | C4: Sunbeds | D4: Daybeds | E4: Parasols (1 per 2 sunbeds) | F4: Side tables (1 per 2 sunbeds) | G4: Towel stations
A5: Main pool (swimming lane) | B5: 1 | C5: 50 | D5: 4 | E5: =ROUNDUP(C5/2,0) -> 25 | F5: =ROUNDUP(C5/2,0) -> 25 | G5: 1
A6: Family pool | B6: 1 | C6: 30 | D6: 2 | E6: =ROUNDUP(C6/2,0) -> 15 | F6: =ROUNDUP(C6/2,0) -> 15 | G6: 1
A7: Heated pool (wellness) | B7: 2 | C7: 16 | D7: 0 | E7: 0 | F7: =ROUNDUP(C7/2,0) -> 8 | G7: 1
A9: Spa & lodges | B9: Qty | C9: Phase (1–4)
A10: Sunbeds per lodge (private terrace) | B10: 2 | C10: per lodge
A11: Spa relaxation loungers | B11: 15 | C11: 2
A12: Treatment rooms | B12: 6 | C12: 2
A15: Item (EN) | B15: Denominación (ES) — for suppliers | C15: Summary group | D15: Phase 1 | E15: Phase 2 | F15: Phase 3 | G15: Phase 4 | H15: Total | I15: Max to negotiate | J15: Notes / to confirm
A16: Pool sunbed | B16: Tumbona piscina | C16: Sunbeds & loungers | D16: =SUMPRODUCT($C$5:$C$7*($B$5:$B$7=1)) -> 80 | E16: =SUMPRODUCT($C$5:$C$7*($B$5:$B$7=2)) -> 16 | F16: =SUMPRODUCT($C$5:$C$7*($B$5:$B$7=3)) -> 0 | G16: =SUMPRODUCT($C$5:$C$7*($B$5:$B$7=4)) -> 0 | H16: =SUM(D16:G16) -> 96 | I16: =ROUNDUP(H16*(1+Assumptions!$B$18),0) -> 106
A17: Lodge terrace sunbed | B17: Tumbona terraza lodge | C17: Sunbeds & loungers | D17: =$B$10*Assumptions!B29 -> 0 | E17: =$B$10*Assumptions!C29 -> 0 | F17: =$B$10*Assumptions!D29 -> 24 | G17: =$B$10*Assumptions!E29 -> 24 | H17: =SUM(D17:G17) -> 48 | I17: =ROUNDUP(H17*(1+Assumptions!$B$18),0) -> 53 | J17: 2 per lodge.
A18: Pool daybed | B18: Daybed / cama balinesa | C18: Daybeds | D18: =SUMPRODUCT($D$5:$D$7*($B$5:$B$7=1)) -> 6 | E18: =SUMPRODUCT($D$5:$D$7*($B$5:$B$7=2)) -> 0 | F18: =SUMPRODUCT($D$5:$D$7*($B$5:$B$7=3)) -> 0 | G18: =SUMPRODUCT($D$5:$D$7*($B$5:$B$7=4)) -> 0 | H18: =SUM(D18:G18) -> 6 | I18: =ROUNDUP(H18*(1+Assumptions!$B$18),0) -> 7
A19: Parasol | B19: Sombrilla | C19: Parasols | D19: =SUMPRODUCT($E$5:$E$7*($B$5:$B$7=1)) -> 40 | E19: =SUMPRODUCT($E$5:$E$7*($B$5:$B$7=2)) -> 0 | F19: =SUMPRODUCT($E$5:$E$7*($B$5:$B$7=3)) -> 0 | G19: =SUMPRODUCT($E$5:$E$7*($B$5:$B$7=4)) -> 0 | H19: =SUM(D19:G19) -> 40 | I19: =ROUNDUP(H19*(1+Assumptions!$B$18),0) -> 44 | J19: Not for the indoor pool.
A20: Pool side table | B20: Mesa auxiliar piscina | C20: Side & coffee tables | D20: =SUMPRODUCT($F$5:$F$7*($B$5:$B$7=1)) -> 40 | E20: =SUMPRODUCT($F$5:$F$7*($B$5:$B$7=2)) -> 8 | F20: =SUMPRODUCT($F$5:$F$7*($B$5:$B$7=3)) -> 0 | G20: =SUMPRODUCT($F$5:$F$7*($B$5:$B$7=4)) -> 0 | H20: =SUM(D20:G20) -> 48 | I20: =ROUNDUP(H20*(1+Assumptions!$B$18),0) -> 53
A21: Towel station | B21: Estación de toallas | C21: Pool equipment | D21: =SUMPRODUCT($G$5:$G$7*($B$5:$B$7=1)) -> 2 | E21: =SUMPRODUCT($G$5:$G$7*($B$5:$B$7=2)) -> 1 | F21: =SUMPRODUCT($G$5:$G$7*($B$5:$B$7=3)) -> 0 | G21: =SUMPRODUCT($G$5:$G$7*($B$5:$B$7=4)) -> 0 | H21: =SUM(D21:G21) -> 3 | I21: =ROUNDUP(H21*(1+Assumptions!$B$18),0) -> 4
A22: Spa relaxation lounger | B22: Tumbona relax spa | C22: Sunbeds & loungers | D22: =$B$11*($C$11=1) -> 0 | E22: =$B$11*($C$11=2) -> 15 | F22: =$B$11*($C$11=3) -> 0 | G22: =$B$11*($C$11=4) -> 0 | H22: =SUM(D22:G22) -> 15 | I22: =ROUNDUP(H22*(1+Assumptions!$B$18),0) -> 17 | J22: Indoor, humidity-resistant materials.
A23: Treatment bed | B23: Camilla de tratamiento | C23: Spa equipment | D23: =$B$12*($C$12=1) -> 0 | E23: =$B$12*($C$12=2) -> 6 | F23: =$B$12*($C$12=3) -> 0 | G23: =$B$12*($C$12=4) -> 0 | H23: =SUM(D23:G23) -> 6 | I23: =ROUNDUP(H23*(1+Assumptions!$B$18),0) -> 7 | J23: Often supplied by the spa operator.
A24: Therapist stool | B24: Taburete terapeuta | C24: Spa equipment | D24: =$B$12*($C$12=1) -> 0 | E24: =$B$12*($C$12=2) -> 6 | F24: =$B$12*($C$12=3) -> 0 | G24: =$B$12*($C$12=4) -> 0 | H24: =SUM(D24:G24) -> 6 | I24: =ROUNDUP(H24*(1+Assumptions!$B$18),0) -> 7

Sheet Common Areas
A1: Common areas — reception, library, privé, multipurpose room, by phase
A2: Reception items repeat in every hotel (1 per licence, meeting 12/08/26). Library and privé in the casa club (meeting 26/05/26); multipurpose room in Lodges A (meeting 12/08/26).
A4: Item (EN) | B4: Denominación (ES) — for suppliers | C4: Summary group | D4: Phase 1 | E4: Phase 2 | F4: Phase 3 | G4: Phase 4 | H4: Total | I4: Max to negotiate | J4: Notes / to confirm | K4: Phase (1–4) or 'per hotel' | L4: Qty
A5: Reception desk | B5: Mostrador de recepción | C5: Reception desks | D5: =IF($K5="per hotel",$L5*Assumptions!B30,IF($K5=1,$L5,0)) -> 1 | E5: =IF($K5="per hotel",$L5*Assumptions!C30,IF($K5=2,$L5,0)) -> 1 | F5: =IF($K5="per hotel",$L5*Assumptions!D30,IF($K5=3,$L5,0)) -> 1 | G5: =IF($K5="per hotel",$L5*Assumptions!E30,IF($K5=4,$L5,0)) -> 1 | H5: =SUM(D5:G5) -> 4 | I5: =ROUNDUP(H5*(1+Assumptions!$B$18),0) -> 5 | J5: 1 per hotel; Hotel 3 in glass cube. | K5: per hotel | L5: 1
A6: Reception operator chair | B6: Silla recepción | C6: Desk & operator chairs | D6: =IF($K6="per hotel",$L6*Assumptions!B30,IF($K6=1,$L6,0)) -> 2 | E6: =IF($K6="per hotel",$L6*Assumptions!C30,IF($K6=2,$L6,0)) -> 2 | F6: =IF($K6="per hotel",$L6*Assumptions!D30,IF($K6=3,$L6,0)) -> 2 | G6: =IF($K6="per hotel",$L6*Assumptions!E30,IF($K6=4,$L6,0)) -> 2 | H6: =SUM(D6:G6) -> 8 | I6: =ROUNDUP(H6*(1+Assumptions!$B$18),0) -> 9 | K6: per hotel | L6: 2
A7: Reception waiting seats | B7: Asientos espera recepción | C7: Armchairs & lounge seating | D7: =IF($K7="per hotel",$L7*Assumptions!B30,IF($K7=1,$L7,0)) -> 4 | E7: =IF($K7="per hotel",$L7*Assumptions!C30,IF($K7=2,$L7,0)) -> 4 | F7: =IF($K7="per hotel",$L7*Assumptions!D30,IF($K7=3,$L7,0)) -> 4 | G7: =IF($K7="per hotel",$L7*Assumptions!E30,IF($K7=4,$L7,0)) -> 4 | H7: =SUM(D7:G7) -> 16 | I7: =ROUNDUP(H7*(1+Assumptions!$B$18),0) -> 18 | K7: per hotel | L7: 4
A8: Reception lamp | B8: Lámpara recepción | C8: Common-area lamps | D8: =IF($K8="per hotel",$L8*Assumptions!B30,IF($K8=1,$L8,0)) -> 2 | E8: =IF($K8="per hotel",$L8*Assumptions!C30,IF($K8=2,$L8,0)) -> 2 | F8: =IF($K8="per hotel",$L8*Assumptions!D30,IF($K8=3,$L8,0)) -> 2 | G8: =IF($K8="per hotel",$L8*Assumptions!E30,IF($K8=4,$L8,0)) -> 2 | H8: =SUM(D8:G8) -> 8 | I8: =ROUNDUP(H8*(1+Assumptions!$B$18),0) -> 9 | K8: per hotel | L8: 2
A9: Library / reading room armchair | B9: Butaca biblioteca | C9: Armchairs & lounge seating | D9: =IF($K9="per hotel",$L9*Assumptions!B30,IF($K9=1,$L9,0)) -> 16 | E9: =IF($K9="per hotel",$L9*Assumptions!C30,IF($K9=2,$L9,0)) -> 0 | F9: =IF($K9="per hotel",$L9*Assumptions!D30,IF($K9=3,$L9,0)) -> 0 | G9: =IF($K9="per hotel",$L9*Assumptions!E30,IF($K9=4,$L9,0)) -> 0 | H9: =SUM(D9:G9) -> 16 | I9: =ROUNDUP(H9*(1+Assumptions!$B$18),0) -> 18 | J9: Deep armchairs, natural light. | K9: 1 | L9: 16
A10: Library sofa | B10: Sofá biblioteca | C10: Sofas | D10: =IF($K10="per hotel",$L10*Assumptions!B30,IF($K10=1,$L10,0)) -> 3 | E10: =IF($K10="per hotel",$L10*Assumptions!C30,IF($K10=2,$L10,0)) -> 0 | F10: =IF($K10="per hotel",$L10*Assumptions!D30,IF($K10=3,$L10,0)) -> 0 | G10: =IF($K10="per hotel",$L10*Assumptions!E30,IF($K10=4,$L10,0)) -> 0 | H10: =SUM(D10:G10) -> 3 | I10: =ROUNDUP(H10*(1+Assumptions!$B$18),0) -> 4 | K10: 1 | L10: 3
A11: Reading / work table | B11: Mesa de lectura | C11: Common-area tables | D11: =IF($K11="per hotel",$L11*Assumptions!B30,IF($K11=1,$L11,0)) -> 2 | E11: =IF($K11="per hotel",$L11*Assumptions!C30,IF($K11=2,$L11,0)) -> 0 | F11: =IF($K11="per hotel",$L11*Assumptions!D30,IF($K11=3,$L11,0)) -> 0 | G11: =IF($K11="per hotel",$L11*Assumptions!E30,IF($K11=4,$L11,0)) -> 0 | H11: =SUM(D11:G11) -> 2 | I11: =ROUNDUP(H11*(1+Assumptions!$B$18),0) -> 3 | J11: Quiet work, no fixed workstations. | K11: 1 | L11: 2
A12: Reading table chair | B12: Silla mesa de lectura | C12: Common-area chairs | D12: =IF($K12="per hotel",$L12*Assumptions!B30,IF($K12=1,$L12,0)) -> 12 | E12: =IF($K12="per hotel",$L12*Assumptions!C30,IF($K12=2,$L12,0)) -> 0 | F12: =IF($K12="per hotel",$L12*Assumptions!D30,IF($K12=3,$L12,0)) -> 0 | G12: =IF($K12="per hotel",$L12*Assumptions!E30,IF($K12=4,$L12,0)) -> 0 | H12: =SUM(D12:G12) -> 12 | I12: =ROUNDUP(H12*(1+Assumptions!$B$18),0) -> 14 | K12: 1 | L12: 12
A13: Library side table | B13: Mesa auxiliar biblioteca | C13: Side & coffee tables | D13: =IF($K13="per hotel",$L13*Assumptions!B30,IF($K13=1,$L13,0)) -> 8 | E13: =IF($K13="per hotel",$L13*Assumptions!C30,IF($K13=2,$L13,0)) -> 0 | F13: =IF($K13="per hotel",$L13*Assumptions!D30,IF($K13=3,$L13,0)) -> 0 | G13: =IF($K13="per hotel",$L13*Assumptions!E30,IF($K13=4,$L13,0)) -> 0 | H13: =SUM(D13:G13) -> 8 | I13: =ROUNDUP(H13*(1+Assumptions!$B$18),0) -> 9 | K13: 1 | L13: 8
A14: Library reading lamp | B14: Lámpara de lectura | C14: Common-area lamps | D14: =IF($K14="per hotel",$L14*Assumptions!B30,IF($K14=1,$L14,0)) -> 12 | E14: =IF($K14="per hotel",$L14*Assumptions!C30,IF($K14=2,$L14,0)) -> 0 | F14: =IF($K14="per hotel",$L14*Assumptions!D30,IF($K14=3,$L14,0)) -> 0 | G14: =IF($K14="per hotel",$L14*Assumptions!E30,IF($K14=4,$L14,0)) -> 0 | H14: =SUM(D14:G14) -> 12 | I14: =ROUNDUP(H14*(1+Assumptions!$B$18),0) -> 14 | K14: 1 | L14: 12
A15: Privé / conference meeting table | B15: Mesa de reuniones privé | C15: Common-area tables | D15: =IF($K15="per hotel",$L15*Assumptions!B30,IF($K15=1,$L15,0)) -> 1 | E15: =IF($K15="per hotel",$L15*Assumptions!C30,IF($K15=2,$L15,0)) -> 0 | F15: =IF($K15="per hotel",$L15*Assumptions!D30,IF($K15=3,$L15,0)) -> 0 | G15: =IF($K15="per hotel",$L15*Assumptions!E30,IF($K15=4,$L15,0)) -> 0 | H15: =SUM(D15:G15) -> 1 | I15: =ROUNDUP(H15*(1+Assumptions!$B$18),0) -> 2 | J15: 16 seats. | K15: 1 | L15: 1
A16: Privé meeting chair | B16: Silla de reuniones | C16: Common-area chairs | D16: =IF($K16="per hotel",$L16*Assumptions!B30,IF($K16=1,$L16,0)) -> 16 | E16: =IF($K16="per hotel",$L16*Assumptions!C30,IF($K16=2,$L16,0)) -> 0 | F16: =IF($K16="per hotel",$L16*Assumptions!D30,IF($K16=3,$L16,0)) -> 0 | G16: =IF($K16="per hotel",$L16*Assumptions!E30,IF($K16=4,$L16,0)) -> 0 | H16: =SUM(D16:G16) -> 16 | I16: =ROUNDUP(H16*(1+Assumptions!$B$18),0) -> 18 | J16: Book launches, intimate dinners, committees. | K16: 1 | L16: 16
A17: Privé lounge seats | B17: Asientos lounge privé | C17: Armchairs & lounge seating | D17: =IF($K17="per hotel",$L17*Assumptions!B30,IF($K17=1,$L17,0)) -> 8 | E17: =IF($K17="per hotel",$L17*Assumptions!C30,IF($K17=2,$L17,0)) -> 0 | F17: =IF($K17="per hotel",$L17*Assumptions!D30,IF($K17=3,$L17,0)) -> 0 | G17: =IF($K17="per hotel",$L17*Assumptions!E30,IF($K17=4,$L17,0)) -> 0 | H17: =SUM(D17:G17) -> 8 | I17: =ROUNDUP(H17*(1+Assumptions!$B$18),0) -> 9 | K17: 1 | L17: 8
A18: Privé lamps | B18: Lámparas privé | C18: Common-area lamps | D18: =IF($K18="per hotel",$L18*Assumptions!B30,IF($K18=1,$L18,0)) -> 6 | E18: =IF($K18="per hotel",$L18*Assumptions!C30,IF($K18=2,$L18,0)) -> 0 | F18: =IF($K18="per hotel",$L18*Assumptions!D30,IF($K18=3,$L18,0)) -> 0 | G18: =IF($K18="per hotel",$L18*Assumptions!E30,IF($K18=4,$L18,0)) -> 0 | H18: =SUM(D18:G18) -> 6 | I18: =ROUNDUP(H18*(1+Assumptions!$B$18),0) -> 7 | K18: 1 | L18: 6
A19: Multipurpose room stacking chair | B19: Silla apilable sala polivalente | C19: Common-area chairs | D19: =IF($K19="per hotel",$L19*Assumptions!B30,IF($K19=1,$L19,0)) -> 0 | E19: =IF($K19="per hotel",$L19*Assumptions!C30,IF($K19=2,$L19,0)) -> 0 | F19: =IF($K19="per hotel",$L19*Assumptions!D30,IF($K19=3,$L19,0)) -> 80 | G19: =IF($K19="per hotel",$L19*Assumptions!E30,IF($K19=4,$L19,0)) -> 0 | H19: =SUM(D19:G19) -> 80 | I19: =ROUNDUP(H19*(1+Assumptions!$B$18),0) -> 88 | J19: Room divisible with panels, for corporate events. | K19: 3 | L19: 80
A20: Multipurpose room folding table | B20: Mesa plegable sala polivalente | C20: Common-area tables | D20: =IF($K20="per hotel",$L20*Assumptions!B30,IF($K20=1,$L20,0)) -> 0 | E20: =IF($K20="per hotel",$L20*Assumptions!C30,IF($K20=2,$L20,0)) -> 0 | F20: =IF($K20="per hotel",$L20*Assumptions!D30,IF($K20=3,$L20,0)) -> 12 | G20: =IF($K20="per hotel",$L20*Assumptions!E30,IF($K20=4,$L20,0)) -> 0 | H20: =SUM(D20:G20) -> 12 | I20: =ROUNDUP(H20*(1+Assumptions!$B$18),0) -> 14 | K20: 3 | L20: 12
A21: Garden / outdoor lounge lamps | B21: Lámparas exterior recargables | C21: Common-area lamps | D21: =IF($K21="per hotel",$L21*Assumptions!B30,IF($K21=1,$L21,0)) -> 20 | E21: =IF($K21="per hotel",$L21*Assumptions!C30,IF($K21=2,$L21,0)) -> 0 | F21: =IF($K21="per hotel",$L21*Assumptions!D30,IF($K21=3,$L21,0)) -> 0 | G21: =IF($K21="per hotel",$L21*Assumptions!E30,IF($K21=4,$L21,0)) -> 0 | H21: =SUM(D21:G21) -> 20 | I21: =ROUNDUP(H21*(1+Assumptions!$B$18),0) -> 22 | J21: Amber light, gardens. | K21: 1 | L21: 20
A22: Garden bench | B22: Banco de jardín | C22: Terrace / outdoor chairs | D22: =IF($K22="per hotel",$L22*Assumptions!B30,IF($K22=1,$L22,0)) -> 10 | E22: =IF($K22="per hotel",$L22*Assumptions!C30,IF($K22=2,$L22,0)) -> 0 | F22: =IF($K22="per hotel",$L22*Assumptions!D30,IF($K22=3,$L22,0)) -> 0 | G22: =IF($K22="per hotel",$L22*Assumptions!E30,IF($K22=4,$L22,0)) -> 0 | H22: =SUM(D22:G22) -> 10 | I22: =ROUNDUP(H22*(1+Assumptions!$B$18),0) -> 11 | K22: 1 | L22: 10
